Workbook

Sheet Start
B2: Volgens artikel 2 lid 3 breukdeel …/10.000
A3: A | B3: 46/10000
A4: D | B4: 29/10000
A5: Totaal | B5: 75/10000
A6: A/D | B6: =75/10000 -> 0.0075
B8: Pondsgewijs
B9: =D27 -> 204
I13: Badkamers | M13: (Slaap)kamer
B14: Verdeelsleutel | C14: 10000 | D14: Totaal | G14: Type | H14: Aantal app. | I14: Badkamer radiator | J14: Badkamer radiator zonder knop | K14: Totaal aantal badkamer radiators zonder knop | L14: Totaal aantal badkamer radiators met knop | M14: Aantal radiators onder ramen met knop | N14: Totaal radiators met knop | O14: m² per stuk | P14: Percentage van totaal | Q14: Totaal m² | R14: Totaal Verdeelbedrag | S14: Bedrag per app. per m² perjaar | T14: Begroting 2025 per jaar | U14: Verschil per jaar
A15: A | B15: 46 | C15: =B15/$C$14 -> 0.0046 | D15: =COUNTIF('Eigendomsoverzicht (2)'!K2:K220,A15) -> 151 | G15: A | H15: =D15-10 -> 141 | I15: Zonder knop | J15: 1 | K15: =H15*J15 -> 141 | M15: 2 | N15: =M15*H15 -> 282 | O15: 72 | P15: =O15/SUM($O$15:$O$22) -> 0.13235294 | Q15: =H15*O15 -> 10152 | R15: =($R$23*Q15)/$Q$23 -> 464082.29 | S15: =R15/H15 -> 3291.3637 | T15: ='2027 Begroting posten'!F47 -> 2156.2408 | U15: =S15-T15 -> 1135.1229
A16: A/D | B16: =B15+B19 -> 75 | C16: =B16/$C$14 -> 0.0075 | G16: AD | H16: 10 | I16: wordt geiinventariseerd | J16: 1 | K16: 1 | L16: =M38 -> 7 | M16: 4 | N16: =M16*H16+L16 -> 47 | O16: 107 | P16: =O16/SUM($O$15:$O$22) -> 0.19669118 | Q16: =H16*O16 -> 1070 | R16: =($R$23*Q16)/$Q$23 -> 48913.322 | S16: =R16/H16 -> 4891.3322 | T16: ='2027 Begroting posten'!D47 -> 3515.61 | U16: =S16-T16 -> 1375.7222
A17: B | B17: 55 | C17: =B17/$C$14 -> 0.0055 | D17: =COUNTIF('Eigendomsoverzicht (2)'!K2:K220,A17) -> 12 | G17: B | H17: =D17 -> 12 | I17: zonder knop | J17: 1 | K17: =H17*J17 -> 12 | M17: 3 | N17: =M17*H17 -> 36 | O17: 90 | P17: =O17/SUM($O$15:$O$22) -> 0.16544118 | Q17: =H17*O17 -> 1080 | R17: =($R$23*Q17)/$Q$23 -> 49370.456 | S17: =R17/H17 -> 4114.2047 | T17: ='2027 Begroting posten'!H47 -> 2578.114 | U17: =S17-T17 -> 1536.0907
A18: C | B18: 62 | C18: =B18/$C$14 -> 0.0062 | D18: =COUNTIF('Eigendomsoverzicht (2)'!K2:K220,A18) -> 25 | G18: C | H18: =D18 -> 25 | I18: zonder knop | J18: 1 | K18: =H18*J18 -> 25 | M18: 4 | N18: =M18*H18 -> 100 | O18: 95 | P18: =O18/SUM($O$15:$O$22) -> 0.17463235 | Q18: =H18*O18 -> 2375 | R18: =($R$23*Q18)/$Q$23 -> 108569.29 | S18: =R18/H18 -> 4342.7716 | T18: ='2027 Begroting posten'!J47 -> 2906.2376 | U18: =S18-T18 -> 1436.534
A19: D | B19: 29 | C19: =B19/$C$14 -> 0.0029 | D19: =COUNTIF('Eigendomsoverzicht (2)'!K2:K220,A19) -> 25 | G19: D | H19: =D19-H16 -> 15 | I19: Met knop | J19: 0 | K19: =H19*J19 -> 0 | L19: 15 | M19: 2 | N19: =L19+M19*H19 -> 45 | O19: 45 | P19: =O19/SUM($O$15:$O$22) -> 0.082720588 | Q19: =H19*O19 -> 675 | R19: =($R$23*Q19)/$Q$23 -> 30856.535 | S19: =R19/H19 -> 2057.1023 | T19: ='2027 Begroting posten'!L47 -> 1359.3692 | U19: =S19-T19 -> 697.73313
A20: E1 | B20: 15 | C20: =B20/$C$14 -> 0.0015 | D20: =COUNTIF('Eigendomsoverzicht (2)'!K2:K220,A20) -> 3 | G20: E1 | H20: =D20 -> 3 | I20: Geen radiaor | J20: 0 | K20: =H20*J20 -> 0 | M20: 1 | N20: =M20*H20 -> 3 | O20: 20 | P20: =O20/SUM($O$15:$O$22) -> 0.036764706 | Q20: 50 | R20: =($R$23*Q20)/$Q$23 -> 2285.6693 | S20: =R20/H20 -> 761.88975 | T20: ='2027 Begroting posten'!P47 -> 703.122 | U20: =S20-T20 -> 58.767754
A21: E2 | B21: 18 | C21: =B21/$C$14 -> 0.0018 | D21: =COUNTIF('Eigendomsoverzicht (2)'!K2:K220,A21) -> 2 | G21: E2 | H21: =D21 -> 2 | I21: Geen radiaor | J21: 0 | K21: =H21*J21 -> 0 | M21: 1 | N21: =M21*H21 -> 2 | O21: 20 | P21: =O21/SUM($O$15:$O$22) -> 0.036764706 | Q21: 50 | R21: =($R$23*Q21)/$Q$23 -> 2285.6693 | S21: =R21/H21 -> 1142.8346 | T21: ='2027 Begroting posten'!Q47 -> 843.7464 | U21: =S21-T21 -> 299.08823
A22: F | B22: 38 | C22: =B22/$C$14 -> 0.0038 | D22: =COUNTIF('Eigendomsoverzicht (2)'!K2:K220,A22) -> 1 | G22: F | H22: =D22 -> 1 | I22: Met knop | J22: 0 | K22: 0 | L22: 1 | M22: 3 | N22: =M22*H22+L22 -> 4 | O22: 95 | P22: =O22/SUM($O$15:$O$22) -> 0.17463235 | Q22: =H22*O22 -> 95 | R22: =($R$23*Q22)/$Q$23 -> 4342.7716 | S22: =R22/H22 -> 4342.7716 | T22: ='2027 Begroting posten'!N47 -> 1781.2424 | U22: =S22-T22 -> 2561.5292 | V22: Deze snap ik niet | W22: 13e etage | X22: Geen terras
A23: Totaal appartementen volgens splitsing | D23: =SUM(D15:D22) -> 219 | H23: =SUM(H15:H22) -> 209 | O23: =SUM(O15:O22) -> 544 | Q23: =SUM(Q15:Q22) -> 15547 | R23: 710706
A24: A/D | B24: Samengesteld appartement | D24: =COUNTIF('Eigendomsoverzicht (2)'!N1:N220,A24) -> 10 | K24: =SUM(K15:K22) -> 179 | N24: =SUM(N15:N22) -> 519
B25: Totaal appartementen | D25: =D23-D24 -> 209
A26: E1/E2 | B26: Logeerkamers volgens splitsing | D26: =D20+D21 -> 5 | E26: betalen geen servicekosten en geen kosten voor beschermd wonen Voor toelichting zie document: 21180 - Aanvullende vergaderstukken vergadering 1 oktober 2021.pdf
B27: Totaal pondsgewijs | D27: =D25-D26 -> 204 | K27: AD | L27: ramen | M27: bad met knop | N27: bad zonder knop | O27: Kolom1 | P27: Kolom2
J28: Berkvens | K28: 93/95 | L28: 4 | M28: 1 | N28: 1 | O28: GL | P28: 1 verwarming kan niet gebruikt worden omdat deze lekt
J29: c de jong-vles | K29: 195/197 | L29: 4 | M29: 1 | N29: 0 | O29: GL
A30: 21180 - Aanvullende vergaderstukken vergadering 1 oktober 2021.pdf | J30: ? | K30: 229/231 | O30: GL
J31: Clememt de Laat | K31: 247/249 | L31: 4 | M31: 2 | N31: 0 | O31: Rechts
J32: Hegener | K32: 263/265 | L32: 4 | M32: 0 | N32: 0 | O32: GL
J33: Mengelers | K33: 281/283 | L33: 4 | M33: 1 | N33: 0 | O33: Rechts
J34: Boelens | K34: 365/367 | L34: 4 | M34: 1 | N34: 0 | O34: GL
J35: Ros | K35: 417/419 | L35: 4 | M35: 0 | N35: 0 | O35: Rechts
J36: Wooninq | K36: 383/385 | L36: 4 | M36: 1 | N36: 0 | O36: Rechts
J37: Netty vd Boogaart | K37: 315/317 | L37: 4 | M37: 0 | N37: 0 | O37: Rechts
K38: totaal | M38: =SUM(M28:M37) -> 7 | N38: =SUM(N28:N36) -> 1
K40: Radiatoren algemene ruimtes | L40: Aantal
K41: 13 etage (Boeken) | L41: 1
K42: 13 etage hal | L42: 4
K43: Trappenhuis 1/tm 12 | L43: 12
K44: Beganegrond | L44: 2
K45: Vergader- hobbyruimte | L45: 4
K46: Oud papier | L46: 1
...

Sheet 2027 Begroting posten
B1: Begroting Service kosten [Voorschotbijdrage] begroting2027 | C1: Totaal Begroting-2027 | D1: Begroting Type (A/D) | E1: Per maand A/D | F1: Begroting Type A | G1: Per maand A | H1: Begroting Type B | I1: Per maand B | J1: Begroting Type C | K1: Per maand C | L1: Begroting Type D | M1: Per maand D | N1: Begroting Type F | O1: Per maand F | P1: Type E1 | Q1: Type E2 | R1: Totaal Nuts in rubriek D | S1: Percentage Totaal Kosten | T1: Percentage t.o.v. rubriek | U1: B en C is 1 rubriek beschermd wonen | V1: Percentage Totaal Kosten | X1: Grootboek
A2: A | B2: Eigenaarslasten
B3: Volgens artikel 2 lid 3 breukdeel …/10.000
B4: Premie opstalverzekering | C4: 25570 | D4: =C4*Start!$C$16 -> 191.775 | F4: =C4*Start!$C$15 -> 117.622 | G4: =F4/12 -> 9.8018333 | H4: =C4*Start!$C$17 -> 140.635 | J4: =C4*Start!$C$18 -> 158.534 | L4: =C4*Start!$C$19 -> 74.153 | N4: =C4*Start!$C$22 -> 97.166 | P4: =C4*Start!$C$20 -> 38.355 | Q4: =C4*Start!$C$21 -> 46.026 | R4: =C4 -> 25570 | T4: =R4/$R$47 -> 0.069342749
B5: Premie glasverzekering | C5: 1997 | D5: =C5*Start!$C$16 -> 14.9775 | F5: =C5*Start!$C$15 -> 9.1862 | G5: =F5/12 -> 0.76551667 | H5: =C5*Start!$C$17 -> 10.9835 | J5: =C5*Start!$C$18 -> 12.3814 | L5: =C5*Start!$C$19 -> 5.7913 | N5: =C5*Start!$C$22 -> 7.5886 | P5: =C5*Start!$C$20 -> 2.9955 | Q5: =C5*Start!$C$21 -> 3.5946 | R5: =C5 -> 1997 | T5: =R5/$R$47 -> 0.0054156226
B6: Premie wettelijke aansprakelijkheid | C6: 3025 | D6: =C6*Start!$C$16 -> 22.6875 | F6: =C6*Start!$C$15 -> 13.915 | G6: =F6/12 -> 1.1595833 | H6: =C6*Start!$C$17 -> 16.6375 | J6: =C6*Start!$C$18 -> 18.755 | L6: =C6*Start!$C$19 -> 8.7725 | N6: =C6*Start!$C$22 -> 11.495 | P6: =C6*Start!$C$20 -> 4.5375 | Q6: =C6*Start!$C$21 -> 5.445 | R6: =C6 -> 3025 | T6: =R6/$R$47 -> 0.0082034343
B7: Premie ongevallenverzekering | C7: 40 | D7: =C7*Start!$C$16 -> 0.3 | F7: =C7*Start!$C$15 -> 0.184 | G7: =F7/12 -> 0.015333333 | H7: =C7*Start!$C$17 -> 0.22 | J7: =C7*Start!$C$18 -> 0.248 | L7: =C7*Start!$C$19 -> 0.116 | N7: =C7*Start!$C$22 -> 0.152 | P7: =C7*Start!$C$20 -> 0.06 | Q7: =C7*Start!$C$21 -> 0.072 | R7: =C7 -> 40 | T7: =R7/$R$47 -> 0.00010847516
B8: Premie bestuurdersaansprakelijkheid | C8: 427 | D8: =C8*Start!$C$16 -> 3.2025 | F8: =C8*Start!$C$15 -> 1.9642 | G8: =F8/12 -> 0.16368333 | H8: =C8*Start!$C$17 -> 2.3485 | J8: =C8*Start!$C$18 -> 2.6474 | L8: =C8*Start!$C$19 -> 1.2383 | N8: =C8*Start!$C$22 -> 1.6226 | P8: =C8*Start!$C$20 -> 0.6405 | Q8: =C8*Start!$C$21 -> 0.7686 | R8: =C8 -> 427 | T8: =R8/$R$47 -> 0.0011579724
B9: Overeenkomst juridische dienstverlening | C9: 2664 | D9: =C9*Start!$C$16 -> 19.98 | F9: =C9*Start!$C$15 -> 12.2544 | G9: =F9/12 -> 1.0212 | H9: =C9*Start!$C$17 -> 14.652 | J9: =C9*Start!$C$18 -> 16.5168 | L9: =C9*Start!$C$19 -> 7.7256 | N9: =C9*Start!$C$22 -> 10.1232 | P9: =C9*Start!$C$20 -> 3.996 | Q9: =C9*Start!$C$21 -> 4.7952 | R9: =C9 -> 2664 | T9: =R9/$R$47 -> 0.007224446
B10: Dagelijks onderhoud | C10: 8000 | D10: =C10*Start!$C$16 -> 60 | F10: =C10*Start!$C$15 -> 36.8 | G10: =F10/12 -> 3.0666667 | H10: =C10*Start!$C$17 -> 44 | J10: =C10*Start!$C$18 -> 49.6 | L10: =C10*Start!$C$19 -> 23.2 | N10: =C10*Start!$C$22 -> 30.4 | P10: =C10*Start!$C$20 -> 12 | Q10: =C10*Start!$C$21 -> 14.4 | R10: =C10 -> 8000 | T10: =R10/$R$47 -> 0.021695033
B11: Onderhoudscontract W-installatie stelpost (CV-installatie) | C11: 8697 | D11: =C11*Start!$C$16 -> 65.2275 | F11: =C11*Start!$C$15 -> 40.0062 | G11: =F11/12 -> 3.33385 | H11: =C11*Start!$C$17 -> 47.8335 | J11: =C11*Start!$C$18 -> 53.9214 | L11: =C11*Start!$C$19 -> 25.2213 | N11: =C11*Start!$C$22 -> 33.0486 | P11: =C11*Start!$C$20 -> 13.0455 | Q11: =C11*Start!$C$21 -> 15.6546 | R11: =C11 -> 8697 | T11: =R11/$R$47 -> 0.023585213
B12: Onderhoud W-installatie stelpost (CV-Installatie) | C12: 2000 | D12: =C12*Start!$C$16 -> 15 | F12: =C12*Start!$C$15 -> 9.2 | G12: =F12/12 -> 0.76666667 | H12: =C12*Start!$C$17 -> 11 | J12: =C12*Start!$C$18 -> 12.4 | L12: =C12*Start!$C$19 -> 5.8 | N12: =C12*Start!$C$22 -> 7.6 | P12: =C12*Start!$C$20 -> 3 | Q12: =C12*Start!$C$21 -> 3.6 | R12: =C12 -> 2000 | T12: =R12/$R$47 -> 0.0054237582
B13: Onderhoudscontract E-installatie stelpost (noodverlichting + NSA) | C13: 0 | D13: =C13*Start!$C$16 -> 0 | F13: =C13*Start!$C$15 -> 0 | G13: =F13/12 -> 0 | H13: =C13*Start!$C$17 -> 0 | J13: =C13*Start!$C$18 -> 0 | L13: =C13*Start!$C$19 -> 0 | N13: =C13*Start!$C$22 -> 0 | P13: =C13*Start!$C$20 -> 0 | Q13: =C13*Start!$C$21 -> 0 | R13: =C13 -> 0
B14: Onderhoudskosten E-installatie stelpost | C14: 1500 | D14: =C14*Start!$C$16 -> 11.25 | F14: =C14*Start!$C$15 -> 6.9 | G14: =F14/12 -> 0.575 | H14: =C14*Start!$C$17 -> 8.25 | J14: =C14*Start!$C$18 -> 9.3 | L14: =C14*Start!$C$19 -> 4.35 | N14: =C14*Start!$C$22 -> 5.7 | P14: =C14*Start!$C$20 -> 2.25 | Q14: =C14*Start!$C$21 -> 2.7 | R14: =C14 -> 1500 | T14: =R14/$R$47 -> 0.0040678187
B15: Onderhoud storingen hydrofoor | C15: 500 | D15: =C15*Start!$C$16 -> 3.75 | F15: =C15*Start!$C$15 -> 2.3 | G15: =F15/12 -> 0.19166667 | H15: =C15*Start!$C$17 -> 2.75 | J15: =C15*Start!$C$18 -> 3.1 | L15: =C15*Start!$C$19 -> 1.45 | N15: =C15*Start!$C$22 -> 1.9 | P15: =C15*Start!$C$20 -> 0.75 | Q15: =C15*Start!$C$21 -> 0.9 | R15: =C15 -> 500 | T15: =R15/$R$47 -> 0.0013559396
B16: Onderhoudscontract hydrofoor | C16: 627 | D16: =C16*Start!$C$16 -> 4.7025 | F16: =C16*Start!$C$15 -> 2.8842 | G16: =F16/12 -> 0.24035 | H16: =C16*Start!$C$17 -> 3.4485 | J16: =C16*Start!$C$18 -> 3.8874 | L16: =C16*Start!$C$19 -> 1.8183 | N16: =C16*Start!$C$22 -> 2.3826 | P16: =C16*Start!$C$20 -> 0.9405 | Q16: =C16*Start!$C$21 -> 1.1286 | R16: =C16 -> 627 | T16: =R16/$R$47 -> 0.0017003482
B17: Onderhoudscontract elektrische deur | C17: 4332 | D17: =C17*Start!$C$16 -> 32.49 | F17: =C17*Start!$C$15 -> 19.9272 | G17: =F17/12 -> 1.6606 | H17: =C17*Start!$C$17 -> 23.826 | J17: =C17*Start!$C$18 -> 26.8584 | L17: =C17*Start!$C$19 -> 12.5628 | N17: =C17*Start!$C$22 -> 16.4616 | P17: =C17*Start!$C$20 -> 6.498 | Q17: =C17*Start!$C$21 -> 7.7976 | R17: =C17 -> 4332 | T17: =R17/$R$47 -> 0.01174786
B18: Onderhoud / storingen elektrische deur | C18: 1400 | D18: =C18*Start!$C$16 -> 10.5 | F18: =C18*Start!$C$15 -> 6.44 | G18: =F18/12 -> 0.53666667 | H18: =C18*Start!$C$17 -> 7.7 | J18: =C18*Start!$C$18 -> 8.68 | L18: =C18*Start!$C$19 -> 4.06 | N18: =C18*Start!$C$22 -> 5.32 | P18: =C18*Start!$C$20 -> 2.1 | Q18: =C18*Start!$C$21 -> 2.52 | R18: =C18 -> 1400 | T18: =R18/$R$47 -> 0.0037966308
B19: Onderhoud / storingen liftinstallatie | C19: 1000 | D19: =C19*Start!$C$16 -> 7.5 | F19: =C19*Start!$C$15 -> 4.6 | G19: =F19/12 -> 0.38333333 | H19: =C19*Start!$C$17 -> 5.5 | J19: =C19*Start!$C$18 -> 6.2 | L19: =C19*Start!$C$19 -> 2.9 | N19: =C19*Start!$C$22 -> 3.8 | P19: =C19*Start!$C$20 -> 1.5 | Q19: =C19*Start!$C$21 -> 1.8 | R19: =C19 -> 1000 | T19: =R19/$R$47 -> 0.0027118791
B20: Onderhoudscontract liftinstallatie | C20: 9000 | D20: =C20*Start!$C$16 -> 67.5 | F20: =C20*Start!$C$15 -> 41.4 | G20: =F20/12 -> 3.45 | H20: =C20*Start!$C$17 -> 49.5 | J20: =C20*Start!$C$18 -> 55.8 | L20: =C20*Start!$C$19 -> 26.1 | N20: =C20*Start!$C$22 -> 34.2 | P20: =C20*Start!$C$20 -> 13.5 | Q20: =C20*Start!$C$21 -> 16.2 | R20: =C20 -> 9000 | T20: =R20/$R$47 -> 0.024406912
B21: Onderhoud zonwering | C21: 1000 | D21: =C21*Start!$C$16 -> 7.5 | F21: =C21*Start!$C$15 -> 4.6 | G21: =F21/12 -> 0.38333333 | H21: =C21*Start!$C$17 -> 5.5 | J21: =C21*Start!$C$18 -> 6.2 | L21: =C21*Start!$C$19 -> 2.9 | N21: =C21*Start!$C$22 -> 3.8 | P21: =C21*Start!$C$20 -> 1.5 | Q21: =C21*Start!$C$21 -> 1.8 | R21: =C21 -> 1000 | T21: =R21/$R$47 -> 0.0027118791
B22: Onderhoud dakveiligheid | C22: 550 | D22: =C22*Start!$C$16 -> 4.125 | F22: =C22*Start!$C$15 -> 2.53 | G22: =F22/12 -> 0.21083333 | H22: =C22*Start!$C$17 -> 3.025 | J22: =C22*Start!$C$18 -> 3.41 | L22: =C22*Start!$C$19 -> 1.595 | N22: =C22*Start!$C$22 -> 2.09 | P22: =C22*Start!$C$20 -> 0.825 | Q22: =C22*Start!$C$21 -> 0.99 | R22: =C22 -> 550 | T22: =R22/$R$47 -> 0.0014915335
B23: Legionellabeheer | C23: 2500 | D23: =C23*Start!$C$16 -> 18.75 | F23: =C23*Start!$C$15 -> 11.5 | G23: =F23/12 -> 0.95833333 | H23: =C23*Start!$C$17 -> 13.75 | J23: =C23*Start!$C$18 -> 15.5 | L23: =C23*Start!$C$19 -> 7.25 | N23: =C23*Start!$C$22 -> 9.5 | P23: =C23*Start!$C$20 -> 3.75 | Q23: =C23*Start!$C$21 -> 4.5 | R23: =C23 -> 2500 | T23: =R23/$R$47 -> 0.0067796978
B24: Onderhoud bliksemafleidingsinstallatie | C24: 300 | D24: =C24*Start!$C$16 -> 2.25 | F24: =C24*Start!$C$15 -> 1.38 | G24: =F24/12 -> 0.115 | H24: =C24*Start!$C$17 -> 1.65 | J24: =C24*Start!$C$18 -> 1.86 | L24: =C24*Start!$C$19 -> 0.87 | N24: =C24*Start!$C$22 -> 1.14 | P24: =C24*Start!$C$20 -> 0.45 | Q24: =C24*Start!$C$21 -> 0.54 | R24: =C24 -> 300 | T24: =R24/$R$47 -> 0.00081356373
B25: kosten brandmeldinstallatie | C25: 594 | D25: =C25*Start!$C$16 -> 4.455 | F25: =C25*Start!$C$15 -> 2.7324 | G25: =F25/12 -> 0.2277 | H25: =C25*Start!$C$17 -> 3.267 | J25: =C25*Start!$C$18 -> 3.6828 | L25: =C25*Start!$C$19 -> 1.7226 | N25: =C25*Start!$C$22 -> 2.2572 | P25: =C25*Start!$C$20 -> 0.891 | Q25: =C25*Start!$C$21 -> 1.0692 | R25: =C25 -> 594 | T25: =R25/$R$47 -> 0.0016108562
... B27: Onderhoudscontract bliksemafleidingsinstallatie | C27: 470 | D27: =C27*Start!$C$16 -> 3.525 | F27: =C27*Start!$C$15 -> 2.162 | G27: =F27/12 -> 0.18016667 | H27: =C27*Start!$C$17 -> 2.585 | J27: =C27*Start!$C$18 -> 2.914 | L27: =C27*Start!$C$19 -> 1.363 | N27: =C27*Start!$C$22 -> 1.786 | P27: =C27*Start!$C$20 -> 0.705 | Q27: =C27*Start!$C$21 -> 0.846 | R27: =C27 -> 470 | T27: =R27/$R$47 -> 0.0012745832
B28: Reservering groot onderhoud (dotatie) | C28: 231750 | D28: =C28*Start!$C$16 -> 1738.125 | E28: =D28/12 -> 144.84375 | F28: =C28*Start!$C$15 -> 1066.05 | G28: =F28/12 -> 88.8375 | H28: =C28*Start!$C$17 -> 1274.625 | I28: =H28/12 -> 106.21875 | J28: =C28*Start!$C$18 -> 1436.85 | K28: =J28/12 -> 119.7375 | L28: =C28*Start!$C$19 -> 672.075 | M28: =L28/12 -> 56.00625 | N28: =C28*Start!$C$22 -> 880.65 | O28: =N28/12 -> 73.3875 | P28: =C28*Start!$C$20 -> 347.625 | Q28: =C28*Start!$C$21 -> 417.15 | R28: =C28 -> 231750 | T28: =R28/$R$47 -> 0.62847798
B29: Energiekosten elektraverbruik (ALGEMENE RUIMTES) | C29: 70000 | D29: =C29*Start!$C$16 -> 525 | E29: =D29/12 -> 43.75 | F29: =C29*Start!$C$15 -> 322 | G29: =F29/12 -> 26.833333 | H29: =C29*Start!$C$17 -> 385 | I29: =H29/12 -> 32.083333 | J29: =C29*Start!$C$18 -> 434 | K29: =J29/12 -> 36.166667 | L29: =C29*Start!$C$19 -> 203 | M29: =L29/12 -> 16.916667 | N29: =C29*Start!$C$22 -> 266 | O29: =N29/12 -> 22.166667 | P29: =C29*Start!$C$20 -> 105 | Q29: =C29*Start!$C$21 -> 126
B30: Waterverbruik gemeenschappelijk en woningen | C30: 30000 | D30: =C30*Start!$C$16 -> 225 | E30: =D30/12 -> 18.75 | F30: =C30*Start!$C$15 -> 138 | G30: =F30/12 -> 11.5 | H30: =C30*Start!$C$17 -> 165 | I30: =H30/12 -> 13.75 | J30: =C30*Start!$C$18 -> 186 | K30: =J30/12 -> 15.5 | L30: =C30*Start!$C$19 -> 87 | M30: =L30/12 -> 7.25 | N30: =C30*Start!$C$22 -> 114 | O30: =N30/12 -> 9.5 | P30: =C30*Start!$C$20 -> 45 | Q30: =C30*Start!$C$21 -> 54
B31: Energiekosten gasverbruik (VIA VOORSCHOT) | C31: 0 | D31: =C31*Start!$C$16 -> 0 | E31: =D31/12 -> 0 | F31: =C31*Start!$C$15 -> 0 | G31: =F31/12 -> 0 | H31: =C31*Start!$C$17 -> 0 | I31: =H31/12 -> 0 | J31: =C31*Start!$C$18 -> 0 | K31: =J31/12 -> 0 | L31: =C31*Start!$C$19 -> 0 | M31: =L31/12 -> 0 | N31: =C31*Start!$C$22 -> 0 | O31: =N31/12 -> 0 | P31: =C31*Start!$C$20 -> 0 | Q31: =C31*Start!$C$21 -> 0
B32: Verenigingskosten | C32: 8000 | D32: =C32*Start!$C$16 -> 60 | F32: =C32*Start!$C$15 -> 36.8 | G32: =F32/12 -> 3.0666667 | H32: =C32*Start!$C$17 -> 44 | J32: =C32*Start!$C$18 -> 49.6 | L32: =C32*Start!$C$19 -> 23.2 | N32: =C32*Start!$C$22 -> 30.4 | P32: =C32*Start!$C$20 -> 12 | Q32: =C32*Start!$C$21 -> 14.4 | R32: =C32 -> 8000 | T32: =R32/$R$47 -> 0.021695033
B33: Accountantskosten | C33: 0 | D33: =C33*Start!$C$16 -> 0 | F33: =C33*Start!$C$15 -> 0 | G33: =F33/12 -> 0 | H33: =C33*Start!$C$17 -> 0 | J33: =C33*Start!$C$18 -> 0 | L33: =C33*Start!$C$19 -> 0 | N33: =C33*Start!$C$22 -> 0 | P33: =C33*Start!$C$20 -> 0 | Q33: =C33*Start!$C$21 -> 0 | R33: =C33 -> 0 | T33: =R33/$R$47 -> 0
B34: Declaratiekosten bestuursleden | C34: 7200 | D34: =C34*Start!$C$16 -> 54 | F34: =C34*Start!$C$15 -> 33.12 | G34: =F34/12 -> 2.76 | H34: =C34*Start!$C$17 -> 39.6 | J34: =C34*Start!$C$18 -> 44.64 | L34: =C34*Start!$C$19 -> 20.88 | N34: =C34*Start!$C$22 -> 27.36 | P34: =C34*Start!$C$20 -> 10.8 | Q34: =C34*Start!$C$21 -> 12.96 | R34: =C34 -> 7200 | T34: =R34/$R$47 -> 0.01952553
B35: Honorarium administratief beheerder | C35: 52660 | D35: =C35*Start!$C$16 -> 394.95 | F35: =C35*Start!$C$15 -> 242.236 | G35: =F35/12 -> 20.186333 | H35: =C35*Start!$C$17 -> 289.63 | J35: =C35*Start!$C$18 -> 326.492 | L35: =C35*Start!$C$19 -> 152.714 | N35: =C35*Start!$C$22 -> 200.108 | P35: =C35*Start!$C$20 -> 78.99 | Q35: =C35*Start!$C$21 -> 94.788 | R35: =C35 -> 52660 | T35: =R35/$R$47 -> 0.14280755
B36: Honorarium technisch beheerder | C36: 19365 | D36: =C36*Start!$C$16 -> 145.2375 | F36: =C36*Start!$C$15 -> 89.079 | G36: =F36/12 -> 7.42325 | H36: =C36*Start!$C$17 -> 106.5075 | J36: =C36*Start!$C$18 -> 120.063 | L36: =C36*Start!$C$19 -> 56.1585 | N36: =C36*Start!$C$22 -> 73.587 | P36: =C36*Start!$C$20 -> 29.0475 | Q36: =C36*Start!$C$21 -> 34.857 | R36: =C36 -> 19365 | T36: =R36/$R$47 -> 0.052515539
B37: Bankkosten | C37: 1500 | D37: =C37*Start!$C$16 -> 11.25 | F37: =C37*Start!$C$15 -> 6.9 | G37: =F37/12 -> 0.575 | H37: =C37*Start!$C$17 -> 8.25 | J37: =C37*Start!$C$18 -> 9.3 | L37: =C37*Start!$C$19 -> 4.35 | N37: =C37*Start!$C$22 -> 5.7 | P37: =C37*Start!$C$20 -> 2.25 | Q37: =C37*Start!$C$21 -> 2.7 | R37: =C37 -> 1500 | T37: =R37/$R$47 -> 0.0040678187
B38: Opbrengst logeerkamers | C38: -8000 | D38: =C38*Start!$C$16 -> -60 | F38: =C38*Start!$C$15 -> -36.8 | H38: =C38*Start!$C$17 -> -44 | J38: =C38*Start!$C$18 -> -49.6 | L38: =C38*Start!$C$19 -> -23.2 | N38: =C38*Start!$C$22 -> -30.4 | P38: =C38*Start!$C$20 -> -12 | Q38: =C38*Start!$C$21 -> -14.4 | R38: =C38 -> -8000 | T38: =R38/$R$47 -> -0.021695033
B39: Opbrengst wasssen | C39: -3000 | D39: =C39*Start!$C$16 -> -22.5 | F39: =C39*Start!$C$15 -> -13.8 | H39: =C39*Start!$C$17 -> -16.5 | J39: =C39*Start!$C$18 -> -18.6 | L39: =C39*Start!$C$19 -> -8.7 | N39: =C39*Start!$C$22 -> -11.4 | P39: =C39*Start!$C$20 -> -4.5 | Q39: =C39*Start!$C$21 -> -5.4 | R39: =C39 -> -3000 | T39: =R39/$R$47 -> -0.0081356373
B40: Totaal kosten | C40: =SUM(C4:C39) -> 486748 | D40: =C40*Start!$B$6 -> 3650.61 | F40: =C40*Start!$C$15 -> 2239.0408 | H40: =C40*Start!$C$17 -> 2677.114 | J40: =C40*Start!$C$18 -> 3017.8376 | L40: =C40*Start!$C$19 -> 1411.5692 | N40: =C40*Start!$C$22 -> 1849.6424 | P40: =C40*Start!$C$20 -> 730.122 | Q40: =C40*Start!$C$21 -> 876.1464 | R40: =SUM(R4:R39) -> 386748 | T40: =R40/$R$47 -> 1.0488138
B42: Opbrengsten
...

Sheet rubriceren nieuw
C1: 2027 | I1: 2026 | M1: 2025 | Q1: 2024 | U1: 2023 | Y1: 2022
A2: A | B2: Eigenaarslasten | C2: 2027 | D2: App. A p/jaar | E2: App. A p/mnd | F2: % tov rubriek | G2: % tov totaal | I2: 2026 | J2: % tov rubriek | K2: % tov totaal | M2: 2025 | N2: % tov rubriek | O2: % tov totaal | Q2: 2024 | R2: % tov rubriek | S2: % tov totaal | U2: 2023 | V2: % tov rubriek | W2: % tov totaal | Y2: 2022 | Z2: % tov rubriek | AA2: % tov totaal
B3: Verzekeringen
B4: {='2027 Begroting posten'!B4:C4} -> Premie opstalverzekering | C4: 25570 | D4: =C4*Start!$C$15 -> 117.622 | E4: =D4/12 -> 9.8018333 | I4: 24353 | M4: 21750 | Q4: 19550 | U4: 17000 | Y4: 16000
B5: {='2027 Begroting posten'!B5:C5} -> Premie glasverzekering | C5: 1997 | D5: =C5*Start!$C$15 -> 9.1862 | E5: =D5/12 -> 0.76551667 | I5: 1902 | M5: 1980 | Q5: 1980 | U5: 1725 | Y5: 1850
B6: {='2027 Begroting posten'!B6:C6} -> Premie wettelijke aansprakelijkheid | C6: 3025 | D6: =C6*Start!$C$15 -> 13.915 | E6: =D6/12 -> 1.1595833 | I6: 2881 | M6: 2650 | Q6: 2500 | U6: 2200 | Y6: 2350
B7: {='2027 Begroting posten'!B7:C9} -> Premie ongevallenverzekering | C7: 40 | D7: =C7*Start!$C$15 -> 0.184 | E7: =D7/12 -> 0.015333333 | I7: 40
B8: Premie bestuurdersaansprakelijkheid | C8: 427 | D8: =C8*Start!$C$15 -> 1.9642 | E8: =D8/12 -> 0.16368333 | I8: 407 | M8: 450 | Q8: 350 | U8: 350 | Y8: 350
B9: Overeenkomst juridische dienstverlening | C9: 2664 | D9: =C9*Start!$C$15 -> 12.2544 | E9: =D9/12 -> 1.0212 | I9: 2537 | M9: 2350 | Q9: 2190 | U9: 2090 | Y9: 1780
B10: Verzekeringen totaal | C10: =SUM(C4:C9) -> 33723 | D10: =C10*Start!$C$15 -> 155.1258 | E10: =D10/12 -> 12.92715 | F10: =C10/$C$50 -> 0.091452699 | I10: =SUM(I4:I9) -> 32120 | J10: =I10/I50 -> 0.091156254 | M10: =SUM(M4:M9) -> 29180 | N10: =M10/M50 -> 0.085520184 | Q10: =SUM(Q4:Q9) -> 26570 | R10: =Q10/Q50 -> 0.08354133 | U10: =SUM(U4:U9) -> 23365 | V10: =U10/U50 -> 0.080831777 | Y10: =SUM(Y4:Y9) -> 22330 | Z10: =Y10/Y50 -> 0.080429732
B12: Onderhoud
B13: {='2027 Begroting posten'!B10:C27} -> Dagelijks onderhoud | C13: 8000 | D13: =C13*Start!$C$15 -> 36.8 | E13: =D13/12 -> 3.0666667 | I13: 8000 | M13: 7000 | Q13: 6000 | U13: 6000 | Y13: 6000
B14: Onderhoudscontract W-installatie stelpost (CV-installatie) | C14: 8697 | D14: =C14*Start!$C$15 -> 40.0062 | E14: =D14/12 -> 3.33385 | I14: 6315 | M14: 5781 | Q14: 4100 | U14: 4000 | Y14: 3600
B15: Onderhoud W-installatie stelpost (CV-Installatie) | C15: 2000 | D15: =C15*Start!$C$15 -> 9.2 | E15: =D15/12 -> 0.76666667 | I15: 2000 | M15: 2000 | Q15: 5000 | U15: 5000 | Y15: 5000
B16: Onderhoudscontract E-installatie stelpost (noodverlichting + NSA) | C16: 0 | D16: =C16*Start!$C$15 -> 0 | E16: =D16/12 -> 0 | M16: 0 | Q16: 0 | U16: 0 | Y16: 1000
B17: Onderhoudskosten E-installatie stelpost | C17: 1500 | D17: =C17*Start!$C$15 -> 6.9 | E17: =D17/12 -> 0.575 | I17: 1500 | M17: 1500 | Q17: 1500 | U17: 1500 | Y17: 1500
B18: Onderhoud storingen hydrofoor | C18: 500 | D18: =C18*Start!$C$15 -> 2.3 | E18: =D18/12 -> 0.19166667 | I18: 500 | M18: 500 | Q18: 500 | U18: 500 | Y18: 500
B19: Onderhoudscontract hydrofoor | C19: 627 | D19: =C19*Start!$C$15 -> 2.8842 | E19: =D19/12 -> 0.24035 | I19: 597 | M19: 565 | Q19: 540 | U19: 520 | Y19: 520
B20: Onderhoudscontract elektrische deur | C20: 4332 | D20: =C20*Start!$C$15 -> 19.9272 | E20: =D20/12 -> 1.6606 | I20: 4125 | M20: 3850 | Q20: 3400 | U20: 3275 | Y20: 2700
B21: Onderhoud / storingen elektrische deur | C21: 1400 | D21: =C21*Start!$C$15 -> 6.44 | E21: =D21/12 -> 0.53666667 | I21: 1400 | M21: 1400 | Q21: 1000 | U21: 1000 | Y21: 1000
B22: Onderhoud / storingen liftinstallatie | C22: 1000 | D22: =C22*Start!$C$15 -> 4.6 | E22: =D22/12 -> 0.38333333 | I22: 1000 | M22: 1000 | Q22: 1000 | U22: 1000 | Y22: 1000
B23: Onderhoudscontract liftinstallatie | C23: 9000 | D23: =C23*Start!$C$15 -> 41.4 | E23: =D23/12 -> 3.45 | I23: 7140 | M23: 5500 | Q23: 6950 | U23: 6695 | Y23: 5850
B24: Onderhoud zonwering | C24: 1000 | D24: =C24*Start!$C$15 -> 4.6 | E24: =D24/12 -> 0.38333333 | I24: 1000 | M24: 1000 | Q24: 3500 | U24: 3500 | Y24: 3500
B25: Onderhoud dakveiligheid | C25: 550 | D25: =C25*Start!$C$15 -> 2.53 | E25: =D25/12 -> 0.21083333 | I25: 524 | M25: 500 | Q25: 500 | U25: 500
B26: Legionellabeheer | C26: 2500 | D26: =C26*Start!$C$15 -> 11.5 | E26: =D26/12 -> 0.95833333 | I26: 2500 | M26: 3750 | Q26: 4250 | U26: 4250 | Y26: 4250
B27: Onderhoud bliksemafleidingsinstallatie | C27: 300 | D27: =C27*Start!$C$15 -> 1.38 | E27: =D27/12 -> 0.115 | I27: 300 | M27: 300 | Q27: 300 | U27: 300 | Y27: 300
B28: kosten brandmeldinstallatie | C28: 594 | D28: =C28*Start!$C$15 -> 2.7324 | E28: =D28/12 -> 0.2277 | I28: 565 | M28: 0 | Q28: 1020 | U28: 980 | Y28: 500
B29: Onderhoudcontract droge blusleiding. | C29: 1080 | D29: =C29*Start!$C$15 -> 4.968 | E29: =D29/12 -> 0.414 | I29: 1030 | M29: 1020 | Q29: 1000 | U29: 1000 | Y29: 1000
B30: Onderhoudscontract bliksemafleidingsinstallatie | C30: 470 | D30: =C30*Start!$C$15 -> 2.162 | E30: =D30/12 -> 0.18016667 | I30: 450 | M30: 470 | Q30: 470 | U30: 470 | Y30: 470
B31: Totaal onderhoud | C31: =SUM(C13:C30) -> 43550 | D31: =C31*Start!$C$15 -> 200.33 | E31: =D31/12 -> 16.694167 | F31: =C31/$C$50 -> 0.11810234 | I31: =SUM(I13:I30) -> 38946 | J31: =I31/I50 -> 0.11052838 | M31: =SUM(M13:M30) -> 36136 | N31: =M31/M50 -> 0.1059067 | Q31: =SUM(Q13:Q30) -> 41030 | R31: =Q31/Q50 -> 0.12900643 | U31: =SUM(U13:U30) -> 40490 | V31: =U31/U50 -> 0.14007613 | Y31: =SUM(Y13:Y30) -> 38690 | Z31: =Y31/Y50 -> 0.13935631
B33: Kosten
B34: {='2027 Begroting posten'!B32:C37} -> Verenigingskosten | C34: 8000 | D34: =C34*Start!$C$15 -> 36.8 | E34: =D34/12 -> 3.0666667 | I34: 8000 | M34: 5000 | Q34: 5000 | U34: 5000 | Y34: 5000
B35: Accountantskosten | C35: 0 | D35: =C35*Start!$C$15 -> 0 | E35: =D35/12 -> 0 | I35: 0 | M35: 3000 | Q35: 4910 | U35: 4720 | Y35: 4000
B36: Declaratiekosten bestuursleden | C36: 7200 | D36: =C36*Start!$C$15 -> 33.12 | E36: =D36/12 -> 2.76 | I36: 7200 | M36: 5000 | Q36: 5000 | U36: 5000 | Y36: 5000
B37: Honorarium administratief beheerder | C37: 52660 | D37: =C37*Start!$C$15 -> 242.236 | E37: =D37/12 -> 20.186333 | I37: 50153 | M37: 47962 | Q37: 46565 | U37: 44346.71 | Y37: 39433.65
B38: Honorarium technisch beheerder | C38: 19365 | D38: =C38*Start!$C$15 -> 89.079 | E38: =D38/12 -> 7.42325 | I38: 18443 | M38: 17428 | Q38: 16921.17 | U38: 16115.4 | Y38: 14330
B39: Bankkosten | C39: 1500 | D39: =C39*Start!$C$15 -> 6.9 | E39: =D39/12 -> 0.575 | I39: 1500 | M39: 1500 | Q39: 1050 | U39: 1020 | Y39: 850
B40: Totaal kosten | C40: =SUM(C34:C39) -> 88725 | D40: =C40*Start!$C$15 -> 408.135 | E40: =D40/12 -> 34.01125 | F40: =C40/$C$50 -> 0.24061147 | I40: =SUM(I34:I39) -> 85296 | J40: =I40/I50 -> 0.24206924 | M40: =SUM(M34:M39) -> 79890 | N40: =M40/M50 -> 0.23414008 | Q40: =SUM(Q34:Q39) -> 79446.17 | R40: =Q40/Q50 -> 0.24979446 | U40: =SUM(U34:U39) -> 76202.11 | Y40: =SUM(Y34:Y39) -> 68613.65 | Z40: =Y40/Y50 -> 0.24713737
B42: Dotatie
B43: {='2027 Begroting posten'!B28:C28} -> Reservering groot onderhoud (dotatie) | C43: 231750 | D43: =C43*Start!$C$15 -> 1066.05 | E43: =D43/12 -> 88.8375 | F43: =C43/$C$50 -> 0.62847798 | I43: 225000 | J43: =I43/I50 -> 0.63854786 | M43: 225000 | N43: =M43/M50 -> 0.65942568 | Q43: 200000 | R43: =Q43/Q50 -> 0.62883952 | U43: 175000 | V43: =U43/U50 -> 0.60541669 | Y43: 175000 | Z43: =Y43/Y50 -> 0.63032705
...

Sheet Overzicht per jaar
A3: A | B3: Som van 2022 | C3: Som van 2023 | D3: Som van 2024 | E3: Som van 2025 | F3: Som van 2026 | G3: Som van 2027
A4: A | B4: 277633.65 | C4: 289057.11 | D4: 318046.17 | E4: 341206 | F4: 352362 | G4: 368748
A5: B+C | B5: 381573 | C5: 415289.45 | D5: 435774 | E5: 445672 | F5: 486066 | G5: 510253
A6: D | B6: 235000 | C6: 220000 | D6: 285000 | E6: 368500 | F6: 368943.86 | G6: 100000
B10: =SUM(B4:B6) -> 894206.65 | C10: =SUM(C4:C6) -> 924346.56 | D10: =SUM(D4:D6) -> 1038820.2 | E10: =SUM(E4:E6) -> 1155378 | F10: =SUM(F4:F6) -> 1207371.9 | G10: =SUM(G4:G6) -> 979001

Sheet Eigendomsoverzicht (2)
A1: NR. | B1: Naam | E1: In bestuur | F1: Functies | G1: Eigendomsoverzicht | H1: Nr | I1: Straat | J1: Huisnr | K1: Type | L1: Verdeelsleutel | M1: Logeerkamer | N1: Dubbel A/D
A2: 1 | B2: Anoniem | C2: 1 | E2: - | F2: - | G2: 52: Herman Gorterlaan 105 | H2: 52 | I2: Herman Gorterlaan | J2: 105 | K2: A | L2: =VLOOKUP(K2,Start!$A$15:$B$22,2) -> 46
A3: 2 | B3: Anoniem | C3: 2 | E3: - | F3: - | G3: 28: Herman Gorterlaan 57 | H3: 28 | I3: Herman Gorterlaan | J3: 57 | K3: A | L3: =VLOOKUP(K3,Start!$A$15:$B$22,2) -> 46
A4: 3 | B4: Anoniem | C4: 3 | E4: - | F4: - | G4: 189: Herman Gorterlaan 379 | H4: 189 | I4: Herman Gorterlaan | J4: 379 | K4: A | L4: =VLOOKUP(K4,Start!$A$15:$B$22,2) -> 46
A5: 4 | B5: Anoniem | C5: 4 | E5: - | F5: - | G5: 61: Herman Gorterlaan 123 | H5: 61 | I5: Herman Gorterlaan | J5: 123 | K5: B | L5: =VLOOKUP(K5,Start!$A$15:$B$22,2) -> 55
A6: 5 | B6: Anoniem | C6: 5 | E6: - | F6: - | G6: 11: Herman Gorterlaan 23 | H6: 11 | I6: Herman Gorterlaan | J6: 23 | K6: A | L6: =VLOOKUP(K6,Start!$A$15:$B$22,2) -> 46
A7: 6 | B7: Anoniem | C7: 6 | E7: - | F7: - | G7: 204: Herman Gorterlaan 409 | H7: 204 | I7: Herman Gorterlaan | J7: 409 | K7: A | L7: =VLOOKUP(K7,Start!$A$15:$B$22,2) -> 46
A8: 7 | B8: Anoniem | C8: 7 | E8: - | F8: - | G8: 174: Herman Gorterlaan 349 | H8: 174 | I8: Herman Gorterlaan | J8: 349 | K8: A | L8: =VLOOKUP(K8,Start!$A$15:$B$22,2) -> 46
A9: 8 | B9: Anoniem | C9: 8 | D9: 1 | E9: - | F9: - | G9: 46: Herman Gorterlaan 93 | H9: 46 | I9: Herman Gorterlaan | J9: 93 | K9: A | L9: =VLOOKUP(K9,Start!$A$15:$B$22,2) -> 46 | N9: A/D
A10: 9 | G10: 47: Herman Gorterlaan 95 | H10: 47 | I10: Herman Gorterlaan | J10: 95 | K10: D | L10: =VLOOKUP(K10,Start!$A$15:$B$22,2) -> 29
A11: 10 | B11: Anoniem | C11: 9 | E11: - | F11: - | G11: 207: Herman Gorterlaan 415 | H11: 207 | I11: Herman Gorterlaan | J11: 415 | K11: A | L11: =VLOOKUP(K11,Start!$A$15:$B$22,2) -> 46
A12: 11 | B12: Anoniem | C12: 10 | E12: - | F12: - | G12: 172: Herman Gorterlaan 345 | H12: 172 | I12: Herman Gorterlaan | J12: 345 | K12: A | L12: =VLOOKUP(K12,Start!$A$15:$B$22,2) -> 46
A13: 12 | B13: Anoniem | C13: 11 | E13: - | F13: - | G13: 71: Herman Gorterlaan 143 | H13: 71 | I13: Herman Gorterlaan | J13: 143 | K13: A | L13: =VLOOKUP(K13,Start!$A$15:$B$22,2) -> 46
A14: 13 | B14: Anoniem | C14: 12 | E14: - | F14: - | G14: 103: Herman Gorterlaan 207 | H14: 103 | I14: Herman Gorterlaan | J14: 207 | K14: A | L14: =VLOOKUP(K14,Start!$A$15:$B$22,2) -> 46
A15: 14 | B15: Anoniem | C15: 13 | D15: 2 | E15: - | F15: - | G15: 182: Herman Gorterlaan 365 | H15: 182 | I15: Herman Gorterlaan | J15: 365 | K15: A | L15: =VLOOKUP(K15,Start!$A$15:$B$22,2) -> 46 | N15: A/D
A16: 15 | G16: 183: Herman Gorterlaan 367 | H16: 183 | I16: Herman Gorterlaan | J16: 367 | K16: D | L16: =VLOOKUP(K16,Start!$A$15:$B$22,2) -> 29
A17: 16 | B17: Anoniem | C17: 14 | E17: - | F17: - | G17: 152: Herman Gorterlaan 305 | H17: 152 | I17: Herman Gorterlaan | J17: 305 | K17: A | L17: =VLOOKUP(K17,Start!$A$15:$B$22,2) -> 46
A18: 17 | B18: Anoniem | C18: 15 | E18: - | F18: - | G18: 102: Herman Gorterlaan 205 | H18: 102 | I18: Herman Gorterlaan | J18: 205 | K18: A | L18: =VLOOKUP(K18,Start!$A$15:$B$22,2) -> 46
A19: 18 | B19: Anoniem | C19: 16 | E19: - | F19: - | G19: 88: Herman Gorterlaan 177 | H19: 88 | I19: Herman Gorterlaan | J19: 177 | K19: A | L19: =VLOOKUP(K19,Start!$A$15:$B$22,2) -> 46
A20: 19 | B20: Anoniem | C20: 17 | E20: - | F20: - | G20: 38: Herman Gorterlaan 77 | H20: 38 | I20: Herman Gorterlaan | J20: 77 | K20: A | L20: =VLOOKUP(K20,Start!$A$15:$B$22,2) -> 46
A21: 20 | B21: Anoniem | C21: 18 | E21: - | F21: - | G21: 77: Herman Gorterlaan 155 | H21: 77 | I21: Herman Gorterlaan | J21: 155 | K21: A | L21: =VLOOKUP(K21,Start!$A$15:$B$22,2) -> 46
A22: 21 | B22: Anoniem | C22: 19 | E22: - | F22: - | G22: 190: Herman Gorterlaan 381 | H22: 190 | I22: Herman Gorterlaan | J22: 381 | K22: A | L22: =VLOOKUP(K22,Start!$A$15:$B$22,2) -> 46
A23: 22 | B23: Anoniem | C23: 20 | E23: - | F23: - | G23: 45: Herman Gorterlaan 91 | H23: 45 | I23: Herman Gorterlaan | J23: 91 | K23: A | L23: =VLOOKUP(K23,Start!$A$15:$B$22,2) -> 46
A24: 23 | B24: Anoniem | C24: 21 | E24: - | F24: - | G24: 127: Herman Gorterlaan 255 | H24: 127 | I24: Herman Gorterlaan | J24: 255 | K24: A | L24: =VLOOKUP(K24,Start!$A$15:$B$22,2) -> 46
A25: 24 | B25: Anoniem | C25: 22 | E25: - | F25: - | G25: 151: Herman Gorterlaan 303 | H25: 151 | I25: Herman Gorterlaan | J25: 303 | K25: A | L25: =VLOOKUP(K25,Start!$A$15:$B$22,2) -> 46
A26: 25 | B26: Anoniem | C26: 23 | E26: - | F26: - | G26: 210: Herman Gorterlaan 421 | H26: 210 | I26: Herman Gorterlaan | J26: 421 | K26: C | L26: =VLOOKUP(K26,Start!$A$15:$B$22,2) -> 62
A27: 26 | B27: Anoniem | C27: 24 | E27: - | F27: - | G27: 74: Herman Gorterlaan 149 | H27: 74 | I27: Herman Gorterlaan | J27: 149 | K27: C | L27: =VLOOKUP(K27,Start!$A$15:$B$22,2) -> 62
A28: 27 | B28: Anoniem | C28: 25 | E28: - | F28: - | G28: 51: Herman Gorterlaan 103 | H28: 51 | I28: Herman Gorterlaan | J28: 103 | K28: A | L28: =VLOOKUP(K28,Start!$A$15:$B$22,2) -> 46
... A43: 42 | B43: Anoniem | C43: 40 | E43: - | F43: - | G43: 201: Herman Gorterlaan 403 | H43: 201 | I43: Herman Gorterlaan | J43: 403 | K43: C | L43: =VLOOKUP(K43,Start!$A$15:$B$22,2) -> 62
A44: 43 | B44: Anoniem | C44: 41 | D44: 3 | E44: - | F44: - | G44: 131: Herman Gorterlaan 263 | H44: 131 | I44: Herman Gorterlaan | J44: 263 | K44: A | L44: =VLOOKUP(K44,Start!$A$15:$B$22,2) -> 46 | N44: A/D
A45: 44 | G45: 132: Herman Gorterlaan 265 | H45: 132 | I45: Herman Gorterlaan | J45: 265 | K45: D | L45: =VLOOKUP(K45,Start!$A$15:$B$22,2) -> 29
A46: 45 | B46: Anoniem | C46: 42 | E46: - | F46: - | G46: 164: Herman Gorterlaan 329 | H46: 164 | I46: Herman Gorterlaan | J46: 329 | K46: A | L46: =VLOOKUP(K46,Start!$A$15:$B$22,2) -> 46
A47: 46 | B47: Anoniem | C47: 43 | E47: - | F47: - | G47: 55: Herman Gorterlaan 111 | H47: 55 | I47: Herman Gorterlaan | J47: 111 | K47: A | L47: =VLOOKUP(K47,Start!$A$15:$B$22,2) -> 46
A48: 47 | B48: Anoniem | C48: 44 | E48: - | F48: - | G48: 155: Herman Gorterlaan 311 | H48: 155 | I48: Herman Gorterlaan | J48: 311 | K48: A | L48: =VLOOKUP(K48,Start!$A$15:$B$22,2) -> 46
A49: 48 | B49: Anoniem | C49: 45 | E49: - | F49: - | G49: 169: Herman Gorterlaan 339 | H49: 169 | I49: Herman Gorterlaan | J49: 339 | K49: A | L49: =VLOOKUP(K49,Start!$A$15:$B$22,2) -> 46
A50: 49 | B50: Anoniem | C50: 46 | E50: - | F50: - | G50: 85: Herman Gorterlaan 171 | H50: 85 | I50: Herman Gorterlaan | J50: 171 | K50: A | L50: =VLOOKUP(K50,Start!$A$15:$B$22,2) -> 46
A51: 50 | B51: Anoniem | C51: 47 | E51: - | F51: - | G51: 198: Herman Gorterlaan 397 | H51: 198 | I51: Herman Gorterlaan | J51: 397 | K51: A | L51: =VLOOKUP(K51,Start!$A$15:$B$22,2) -> 46
A52: 51 | B52: Anoniem | C52: 48 | E52: - | F52: - | G52: 176: Herman Gorterlaan 353 | H52: 176 | I52: Herman Gorterlaan | J52: 353 | K52: C | L52: =VLOOKUP(K52,Start!$A$15:$B$22,2) -> 62
A53: 52 | B53: Anoniem | C53: 49 | E53: - | F53: - | G53: 135: Herman Gorterlaan 271 | H53: 135 | I53: Herman Gorterlaan | J53: 271 | K53: A | L53: =VLOOKUP(K53,Start!$A$15:$B$22,2) -> 46
A54: 53 | B54: Anoniem | C54: 50 | E54: - | F54: - | G54: 34: Herman Gorterlaan 69 | H54: 34 | I54: Herman Gorterlaan | J54: 69 | K54: A | L54: =VLOOKUP(K54,Start!$A$15:$B$22,2) -> 46
...
