Workbook

Sheet Start
B2: Volgens artikel 2 lid 3 breukdeel …/10.000
A3: A | B3: 46/10000
A4: D | B4: 29/10000
A5: Totaal | B5: 75/10000
A6: A/D | B6: =75/10000 -> 0.0075
B8: Pondsgewijs
B9: =D27 -> 204
I13: Badkamers | M13: (Slaap)kamer
B14: Verdeelsleutel | C14: 10000 | D14: Totaal | G14: Type | H14: Aantal app. | I14: Badkamer radiator | J14: Badkamer radiator zonder knop | K14: Totaal aantal badkamer radiators zonder knop | L14: Totaal aantal badkamer radiators met knop | M14: Aantal radiators onder ramen met knop | N14: Totaal radiators met knop | O14: m² per stuk | P14: Percentage van totaal | Q14: Totaal m² | R14: Totaal Verdeelbedrag | S14: Bedrag per app. per m² perjaar | T14: Begroting 2025 per jaar | U14: Verschil per jaar
A15: A | B15: 46 | C15: =B15/$C$14 -> 0.0046 | D15: =COUNTIF('Eigendomsoverzicht (2)'!K2:K220,A15) -> 151 | G15: A | H15: =D15-10 -> 141 | I15: Zonder knop | J15: 1 | K15: =H15*J15 -> 141 | M15: 2 | N15: =M15*H15 -> 282 | O15: 72 | P15: =O15/SUM($O$15:$O$22) -> 0.13235294 | Q15: =H15*O15 -> 10152 | R15: =($R$23*Q15)/$Q$23 -> 464082.29 | S15: =R15/H15 -> 3291.3637 | T15: ='2027 Begroting posten'!F47 -> 2156.2408 | U15: =S15-T15 -> 1135.1229
A16: A/D | B16: =B15+B19 -> 75 | C16: =B16/$C$14 -> 0.0075 | G16: AD | H16: 10 | I16: wordt geiinventariseerd | J16: 1 | K16: 1 | L16: =M38 -> 7 | M16: 4 | N16: =M16*H16+L16 -> 47 | O16: 107 | P16: =O16/SUM($O$15:$O$22) -> 0.19669118 | Q16: =H16*O16 -> 1070 | R16: =($R$23*Q16)/$Q$23 -> 48913.322 | S16: =R16/H16 -> 4891.3322 | T16: ='2027 Begroting posten'!D47 -> 3515.61 | U16: =S16-T16 -> 1375.7222
A17: B | B17: 55 | C17: =B17/$C$14 -> 0.0055 | D17: =COUNTIF('Eigendomsoverzicht (2)'!K2:K220,A17) -> 12 | G17: B | H17: =D17 -> 12 | I17: zonder knop | J17: 1 | K17: =H17*J17 -> 12 | M17: 3 | N17: =M17*H17 -> 36 | O17: 90 | P17: =O17/SUM($O$15:$O$22) -> 0.16544118 | Q17: =H17*O17 -> 1080 | R17: =($R$23*Q17)/$Q$23 -> 49370.456 | S17: =R17/H17 -> 4114.2047 | T17: ='2027 Begroting posten'!H47 -> 2578.114 | U17: =S17-T17 -> 1536.0907
A18: C | B18: 62 | C18: =B18/$C$14 -> 0.0062 | D18: =COUNTIF('Eigendomsoverzicht (2)'!K2:K220,A18) -> 25 | G18: C | H18: =D18 -> 25 | I18: zonder knop | J18: 1 | K18: =H18*J18 -> 25 | M18: 4 | N18: =M18*H18 -> 100 | O18: 95 | P18: =O18/SUM($O$15:$O$22) -> 0.17463235 | Q18: =H18*O18 -> 2375 | R18: =($R$23*Q18)/$Q$23 -> 108569.29 | S18: =R18/H18 -> 4342.7716 | T18: ='2027 Begroting posten'!J47 -> 2906.2376 | U18: =S18-T18 -> 1436.534
A19: D | B19: 29 | C19: =B19/$C$14 -> 0.0029 | D19: =COUNTIF('Eigendomsoverzicht (2)'!K2:K220,A19) -> 25 | G19: D | H19: =D19-H16 -> 15 | I19: Met knop | J19: 0 | K19: =H19*J19 -> 0 | L19: 15 | M19: 2 | N19: =L19+M19*H19 -> 45 | O19: 45 | P19: =O19/SUM($O$15:$O$22) -> 0.082720588 | Q19: =H19*O19 -> 675 | R19: =($R$23*Q19)/$Q$23 -> 30856.535 | S19: =R19/H19 -> 2057.1023 | T19: ='2027 Begroting posten'!L47 -> 1359.3692 | U19: =S19-T19 -> 697.73313
A20: E1 | B20: 15 | C20: =B20/$C$14 -> 0.0015 | D20: =COUNTIF('Eigendomsoverzicht (2)'!K2:K220,A20) -> 3 | G20: E1 | H20: =D20 -> 3 | I20: Geen radiaor | J20: 0 | K20: =H20*J20 -> 0 | M20: 1 | N20: =M20*H20 -> 3 | O20: 20 | P20: =O20/SUM($O$15:$O$22) -> 0.036764706 | Q20: 50 | R20: =($R$23*Q20)/$Q$23 -> 2285.6693 | S20: =R20/H20 -> 761.88975 | T20: ='2027 Begroting posten'!P47 -> 703.122 | U20: =S20-T20 -> 58.767754
A21: E2 | B21: 18 | C21: =B21/$C$14 -> 0.0018 | D21: =COUNTIF('Eigendomsoverzicht (2)'!K2:K220,A21) -> 2 | G21: E2 | H21: =D21 -> 2 | I21: Geen radiaor | J21: 0 | K21: =H21*J21 -> 0 | M21: 1 | N21: =M21*H21 -> 2 | O21: 20 | P21: =O21/SUM($O$15:$O$22) -> 0.036764706 | Q21: 50 | R21: =($R$23*Q21)/$Q$23 -> 2285.6693 | S21: =R21/H21 -> 1142.8346 | T21: ='2027 Begroting posten'!Q47 -> 843.7464 | U21: =S21-T21 -> 299.08823
A22: F | B22: 38 | C22: =B22/$C$14 -> 0.0038 | D22: =COUNTIF('Eigendomsoverzicht (2)'!K2:K220,A22) -> 1 | G22: F | H22: =D22 -> 1 | I22: Met knop | J22: 0 | K22: 0 | L22: 1 | M22: 3 | N22: =M22*H22+L22 -> 4 | O22: 95 | P22: =O22/SUM($O$15:$O$22) -> 0.17463235 | Q22: =H22*O22 -> 95 | R22: =($R$23*Q22)/$Q$23 -> 4342.7716 | S22: =R22/H22 -> 4342.7716 | T22: ='2027 Begroting posten'!N47 -> 1781.2424 | U22: =S22-T22 -> 2561.5292 | V22: Deze snap ik niet | W22: 13e etage | X22: Geen terras
A23: Totaal appartementen volgens splitsing | D23: =SUM(D15:D22) -> 219 | H23: =SUM(H15:H22) -> 209 | O23: =SUM(O15:O22) -> 544 | Q23: =SUM(Q15:Q22) -> 15547 | R23: 710706
A24: A/D | B24: Samengesteld appartement | D24: =COUNTIF('Eigendomsoverzicht (2)'!N1:N220,A24) -> 10 | K24: =SUM(K15:K22) -> 179 | N24: =SUM(N15:N22) -> 519
B25: Totaal appartementen | D25: =D23-D24 -> 209
A26: E1/E2 | B26: Logeerkamers volgens splitsing | D26: =D20+D21 -> 5 | E26: betalen geen servicekosten en geen kosten voor beschermd wonen Voor toelichting zie document: 21180 - Aanvullende vergaderstukken vergadering 1 oktober 2021.pdf
B27: Totaal pondsgewijs | D27: =D25-D26 -> 204 | K27: AD | L27: ramen | M27: bad met knop | N27: bad zonder knop | O27: Kolom1 | P27: Kolom2
J28: Berkvens | K28: 93/95 | L28: 4 | M28: 1 | N28: 1 | O28: GL | P28: 1 verwarming kan niet gebruikt worden omdat deze lekt
J29: c de jong-vles | K29: 195/197 | L29: 4 | M29: 1 | N29: 0 | O29: GL
A30: 21180 - Aanvullende vergaderstukken vergadering 1 oktober 2021.pdf | J30: ? | K30: 229/231 | O30: GL
J31: Clememt de Laat | K31: 247/249 | L31: 4 | M31: 2 | N31: 0 | O31: Rechts
J32: Hegener | K32: 263/265 | L32: 4 | M32: 0 | N32: 0 | O32: GL
J33: Mengelers | K33: 281/283 | L33: 4 | M33: 1 | N33: 0 | O33: Rechts
J34: Boelens | K34: 365/367 | L34: 4 | M34: 1 | N34: 0 | O34: GL
J35: Ros | K35: 417/419 | L35: 4 | M35: 0 | N35: 0 | O35: Rechts
J36: Wooninq | K36: 383/385 | L36: 4 | M36: 1 | N36: 0 | O36: Rechts
J37: Netty vd Boogaart | K37: 315/317 | L37: 4 | M37: 0 | N37: 0 | O37: Rechts
K38: totaal | M38: =SUM(M28:M37) -> 7 | N38: =SUM(N28:N36) -> 1
K40: Radiatoren algemene ruimtes | L40: Aantal
K41: 13 etage (Boeken) | L41: 1
K42: 13 etage hal | L42: 4
K43: Trappenhuis 1/tm 12 | L43: 12
K44: Beganegrond | L44: 2
K45: Vergader- hobbyruimte | L45: 4
K46: Oud papier | L46: 1
K47: Huismeester | L47: 1
K48: Fietsenstalling 1 | L48: 2
K49: Fietsenstalling 2 | L49: 3
K50: Fietsenstalling 3 | L50: 2
K51: Totaal | L51: =SUM(L41:L50) -> 32
Q52: 21180 - Meerkeuze polis CB incl. opstal-eb-wa-ongevallen - Polisaanhangsel 2025 nav hertaxatie
A53: Opstal en WA verzekering 1-1-2022 | J53: Opstal en WA verzekering 1-1-2023 | R53: Volgens artikel 2 lid 3 breukdeel …/10.000 | T53: Verzekerd bedrag
B54: Verdeelsleutel | C54: 10000 | D54: 34841500 | K54: Verdeelsleutel | L54: 10000 | M54: 48432775 | Q54: Type appartement | R54: Verdeelsleutel / aandeel in de splitsing | S54: 10000 | T54: 57325000 | U54: Aantal apprtementen | V54: Totalen per type appartement
A55: A | B55: 46 | C55: =B55/$C$54 -> 0.0046 | D55: =C55*D$54 -> 160270.9 | E55: =$D$15 -> 151 | F55: =E55*D55 -> 24200906 | J55: A | K55: 46 | L55: =K55/$C$54 -> 0.0046 | M55: =L55*M$54 -> 222790.76 | N55: =$D$15 -> 151 | O55: =N55*M55 -> 33641406 | Q55: A | R55: 46 | S55: =R55/$C$54 -> 0.0046 | T55: =S55*T$54 -> 263695 | U55: 151 | V55: =U55*T55 -> 39817945
A56: B | B56: 55 | C56: =B56/$C$54 -> 0.0055 | D56: =C56*D$54 -> 191628.25 | E56: =$D$17 -> 12 | F56: =E56*D56 -> 2299539 | J56: B | K56: 55 | L56: =K56/$C$54 -> 0.0055 | M56: =L56*M$54 -> 266380.26 | N56: =$D$17 -> 12 | O56: =N56*M56 -> 3196563.2 | Q56: B | R56: 55 | S56: =R56/$C$54 -> 0.0055 | T56: =S56*T$54 -> 315287.5 | U56: 12 | V56: =U56*T56 -> 3783450
A57: C | B57: 62 | C57: =B57/$C$54 -> 0.0062 | D57: =C57*D$54 -> 216017.3 | E57: =$D$18 -> 25 | F57: =E57*D57 -> 5400432.5 | J57: C | K57: 62 | L57: =K57/$C$54 -> 0.0062 | M57: =L57*M$54 -> 300283.21 | N57: =$D$18 -> 25 | O57: =N57*M57 -> 7507080.1 | Q57: C | R57: 62 | S57: =R57/$C$54 -> 0.0062 | T57: =S57*T$54 -> 355415 | U57: 25 | V57: =U57*T57 -> 8885375
A58: D | B58: 29 | C58: =B58/$C$54 -> 0.0029 | D58: =C58*D$54 -> 101040.35 | E58: =$D$19 -> 25 | F58: =E58*D58 -> 2526008.8 | J58: D | K58: 29 | L58: =K58/$C$54 -> 0.0029 | M58: =L58*M$54 -> 140455.05 | N58: =$D$19 -> 25 | O58: =N58*M58 -> 3511376.2 | Q58: D | R58: 29 | S58: =R58/$C$54 -> 0.0029 | T58: =S58*T$54 -> 166242.5 | U58: 25 | V58: =U58*T58 -> 4156062.5
A59: E1 | B59: 15 | C59: =B59/$C$54 -> 0.0015 | D59: =C59*D$54 -> 52262.25 | E59: =$D$20 -> 3 | F59: =E59*D59 -> 156786.75 | J59: E1 | K59: 15 | L59: =K59/$C$54 -> 0.0015 | M59: =L59*M$54 -> 72649.163 | N59: =$D$20 -> 3 | O59: =N59*M59 -> 217947.49 | Q59: E1 | R59: 15 | S59: =R59/$C$54 -> 0.0015 | T59: =S59*T$54 -> 85987.5 | U59: 3 | V59: =U59*T59 -> 257962.5
A60: E2 | B60: 18 | C60: =B60/$C$54 -> 0.0018 | D60: =C60*D$54 -> 62714.7 | E60: =$D$21 -> 2 | F60: =E60*D60 -> 125429.4 | J60: E2 | K60: 18 | L60: =K60/$C$54 -> 0.0018 | M60: =L60*M$54 -> 87178.995 | N60: =$D$21 -> 2 | O60: =N60*M60 -> 174357.99 | Q60: E2 | R60: 18 | S60: =R60/$C$54 -> 0.0018 | T60: =S60*T$54 -> 103185 | U60: 2 | V60: =U60*T60 -> 206370
A61: F | B61: 38 | C61: =B61/$C$54 -> 0.0038 | D61: =C61*D$54 -> 132397.7 | E61: =$D$22 -> 1 | F61: =E61*D61 -> 132397.7 | J61: F | K61: 38 | L61: =K61/$C$54 -> 0.0038 | M61: =L61*M$54 -> 184044.55 | N61: =$D$22 -> 1 | O61: =N61*M61 -> 184044.55 | Q61: F | R61: 38 | S61: =R61/$C$54 -> 0.0038 | T61: =S61*T$54 -> 217835 | U61: 1 | V61: =U61*T61 -> 217835
B62: Totaal appartementen | E62: =SUM(E55:E61) -> 219 | F62: =SUM(F55:F61) -> 34841500 | K62: Totaal appartementen | N62: =SUM(N55:N61) -> 219 | O62: =SUM(O55:O61) -> 48432775 | R62: Totaal appartementen | U62: =SUM(U55:U61) -> 219 | V62: =SUM(V55:V61) -> 57325000
A64: Document: 21180-Opstal en WA verzekering Kok - Polis 1-5-2022.pdf | J64: Document: 21180-Meerkeuze polis CB incl. opstal-en-WA - polis 2023.pdf
A84: Aantal stemmen
A85: Stemmen | B85: Percentage opkomst | C85: Meerderheid /2+1 | D85: Wooninc | E85: Twee derde
A86: 209 | B86: 1 | C86: =A86/2+1 -> 105.5 | D86: 79 | E86: =A86/3*2 -> 139.33333
A87: 163 | B87: =A87/$A$86 -> 0.77990431 | C87: =A87/2+1 -> 82.5 | D87: 79 | E87: =A87/3*2 -> 108.66667
A88: 154 | B88: =A88/$A$86 -> 0.73684211 | C88: =A88/2+1 -> 78 | D88: 79 | E88: =A88/3*2 -> 102.66667
A89: 121 | B89: =A89/$A$86 -> 0.57894737 | C89: =A89/2+1 -> 61.5 | D89: 79 | E89: =A89/3*2 -> 80.666667
A90: 105 | B90: =A90/$A$86 -> 0.50239234 | C90: =A90/2+1 -> 53.5 | D90: 79 | E90: =A90/3*2 -> 70
A91: 104 | B91: =A91/$A$86 -> 0.49760766 | C91: =A91/2+1 -> 53 | D91: 79 | E91: =A91/3*2 -> 69.333333
A92: 151 | B92: =A92/$A$86 -> 0.72248804 | C92: =A92/2+1 -> 76.5 | E92: =A92/3*2 -> 100.66667
A93: In een vergadering, waarin minder dan de helft (209/2=104,5) van het in artikel 34 tweede lid bedoelde totaal aantal stemmen kan worden uitgebracht, kan geen geldig besluit worden genomen, ……….
A94: Kan op grond van het in de vorige zin bepaalde geen geldig besluit worden genomen, dan zal een nieuwe vergadering worden uitgeschreven. Artikel 38 zesde lid is van overeenkomstige toepassing.
A97: Tussen de 105 en 155 stemmen heeft Wooninc altijd een meerderheid

Sheet 2027 Begroting posten
B1: Begroting Service kosten [Voorschotbijdrage] begroting2027 | C1: Totaal Begroting-2027 | D1: Begroting Type (A/D) | E1: Per maand A/D | F1: Begroting Type A | G1: Per maand A | H1: Begroting Type B | I1: Per maand B | J1: Begroting Type C | K1: Per maand C | L1: Begroting Type D | M1: Per maand D | N1: Begroting Type F | O1: Per maand F | P1: Type E1 | Q1: Type E2 | R1: Totaal Nuts in rubriek D | S1: Percentage Totaal Kosten | T1: Percentage t.o.v. rubriek | U1: B en C is 1 rubriek beschermd wonen | V1: Percentage Totaal Kosten | X1: Grootboek
A2: A | B2: Eigenaarslasten
B3: Volgens artikel 2 lid 3 breukdeel …/10.000
B4: Premie opstalverzekering | C4: 25570 | D4: =C4*Start!$C$16 -> 191.775 | F4: =C4*Start!$C$15 -> 117.622 | G4: =F4/12 -> 9.8018333 | H4: =C4*Start!$C$17 -> 140.635 | J4: =C4*Start!$C$18 -> 158.534 | L4: =C4*Start!$C$19 -> 74.153 | N4: =C4*Start!$C$22 -> 97.166 | P4: =C4*Start!$C$20 -> 38.355 | Q4: =C4*Start!$C$21 -> 46.026 | R4: =C4 -> 25570 | T4: =R4/$R$47 -> 0.069342749
B5: Premie glasverzekering | C5: 1997 | D5: =C5*Start!$C$16 -> 14.9775 | F5: =C5*Start!$C$15 -> 9.1862 | G5: =F5/12 -> 0.76551667 | H5: =C5*Start!$C$17 -> 10.9835 | J5: =C5*Start!$C$18 -> 12.3814 | L5: =C5*Start!$C$19 -> 5.7913 | N5: =C5*Start!$C$22 -> 7.5886 | P5: =C5*Start!$C$20 -> 2.9955 | Q5: =C5*Start!$C$21 -> 3.5946 | R5: =C5 -> 1997 | T5: =R5/$R$47 -> 0.0054156226
B6: Premie wettelijke aansprakelijkheid | C6: 3025 | D6: =C6*Start!$C$16 -> 22.6875 | F6: =C6*Start!$C$15 -> 13.915 | G6: =F6/12 -> 1.1595833 | H6: =C6*Start!$C$17 -> 16.6375 | J6: =C6*Start!$C$18 -> 18.755 | L6: =C6*Start!$C$19 -> 8.7725 | N6: =C6*Start!$C$22 -> 11.495 | P6: =C6*Start!$C$20 -> 4.5375 | Q6: =C6*Start!$C$21 -> 5.445 | R6: =C6 -> 3025 | T6: =R6/$R$47 -> 0.0082034343
B7: Premie ongevallenverzekering | C7: 40 | D7: =C7*Start!$C$16 -> 0.3 | F7: =C7*Start!$C$15 -> 0.184 | G7: =F7/12 -> 0.015333333 | H7: =C7*Start!$C$17 -> 0.22 | J7: =C7*Start!$C$18 -> 0.248 | L7: =C7*Start!$C$19 -> 0.116 | N7: =C7*Start!$C$22 -> 0.152 | P7: =C7*Start!$C$20 -> 0.06 | Q7: =C7*Start!$C$21 -> 0.072 | R7: =C7 -> 40 | T7: =R7/$R$47 -> 0.00010847516
B8: Premie bestuurdersaansprakelijkheid | C8: 427 | D8: =C8*Start!$C$16 -> 3.2025 | F8: =C8*Start!$C$15 -> 1.9642 | G8: =F8/12 -> 0.16368333 | H8: =C8*Start!$C$17 -> 2.3485 | J8: =C8*Start!$C$18 -> 2.6474 | L8: =C8*Start!$C$19 -> 1.2383 | N8: =C8*Start!$C$22 -> 1.6226 | P8: =C8*Start!$C$20 -> 0.6405 | Q8: =C8*Start!$C$21 -> 0.7686 | R8: =C8 -> 427 | T8: =R8/$R$47 -> 0.0011579724
B9: Overeenkomst juridische dienstverlening | C9: 2664 | D9: =C9*Start!$C$16 -> 19.98 | F9: =C9*Start!$C$15 -> 12.2544 | G9: =F9/12 -> 1.0212 | H9: =C9*Start!$C$17 -> 14.652 | J9: =C9*Start!$C$18 -> 16.5168 | L9: =C9*Start!$C$19 -> 7.7256 | N9: =C9*Start!$C$22 -> 10.1232 | P9: =C9*Start!$C$20 -> 3.996 | Q9: =C9*Start!$C$21 -> 4.7952 | R9: =C9 -> 2664 | T9: =R9/$R$47 -> 0.007224446
B10: Dagelijks onderhoud | C10: 8000 | D10: =C10*Start!$C$16 -> 60 | F10: =C10*Start!$C$15 -> 36.8 | G10: =F10/12 -> 3.0666667 | H10: =C10*Start!$C$17 -> 44 | J10: =C10*Start!$C$18 -> 49.6 | L10: =C10*Start!$C$19 -> 23.2 | N10: =C10*Start!$C$22 -> 30.4 | P10: =C10*Start!$C$20 -> 12 | Q10: =C10*Start!$C$21 -> 14.4 | R10: =C10 -> 8000 | T10: =R10/$R$47 -> 0.021695033
B11: Onderhoudscontract W-installatie stelpost (CV-installatie) | C11: 8697 | D11: =C11*Start!$C$16 -> 65.2275 | F11: =C11*Start!$C$15 -> 40.0062 | G11: =F11/12 -> 3.33385 | H11: =C11*Start!$C$17 -> 47.8335 | J11: =C11*Start!$C$18 -> 53.9214 | L11: =C11*Start!$C$19 -> 25.2213 | N11: =C11*Start!$C$22 -> 33.0486 | P11: =C11*Start!$C$20 -> 13.0455 | Q11: =C11*Start!$C$21 -> 15.6546 | R11: =C11 -> 8697 | T11: =R11/$R$47 -> 0.023585213
B12: Onderhoud W-installatie stelpost (CV-Installatie) | C12: 2000 | D12: =C12*Start!$C$16 -> 15 | F12: =C12*Start!$C$15 -> 9.2 | G12: =F12/12 -> 0.76666667 | H12: =C12*Start!$C$17 -> 11 | J12: =C12*Start!$C$18 -> 12.4 | L12: =C12*Start!$C$19 -> 5.8 | N12: =C12*Start!$C$22 -> 7.6 | P12: =C12*Start!$C$20 -> 3 | Q12: =C12*Start!$C$21 -> 3.6 | R12: =C12 -> 2000 | T12: =R12/$R$47 -> 0.0054237582
B13: Onderhoudscontract E-installatie stelpost (noodverlichting + NSA) | C13: 0 | D13: =C13*Start!$C$16 -> 0 | F13: =C13*Start!$C$15 -> 0 | G13: =F13/12 -> 0 | H13: =C13*Start!$C$17 -> 0 | J13: =C13*Start!$C$18 -> 0 | L13: =C13*Start!$C$19 -> 0 | N13: =C13*Start!$C$22 -> 0 | P13: =C13*Start!$C$20 -> 0 | Q13: =C13*Start!$C$21 -> 0 | R13: =C13 -> 0
B14: Onderhoudskosten E-installatie stelpost | C14: 1500 | D14: =C14*Start!$C$16 -> 11.25 | F14: =C14*Start!$C$15 -> 6.9 | G14: =F14/12 -> 0.575 | H14: =C14*Start!$C$17 -> 8.25 | J14: =C14*Start!$C$18 -> 9.3 | L14: =C14*Start!$C$19 -> 4.35 | N14: =C14*Start!$C$22 -> 5.7 | P14: =C14*Start!$C$20 -> 2.25 | Q14: =C14*Start!$C$21 -> 2.7 | R14: =C14 -> 1500 | T14: =R14/$R$47 -> 0.0040678187
B15: Onderhoud storingen hydrofoor | C15: 500 | D15: =C15*Start!$C$16 -> 3.75 | F15: =C15*Start!$C$15 -> 2.3 | G15: =F15/12 -> 0.19166667 | H15: =C15*Start!$C$17 -> 2.75 | J15: =C15*Start!$C$18 -> 3.1 | L15: =C15*Start!$C$19 -> 1.45 | N15: =C15*Start!$C$22 -> 1.9 | P15: =C15*Start!$C$20 -> 0.75 | Q15: =C15*Start!$C$21 -> 0.9 | R15: =C15 -> 500 | T15: =R15/$R$47 -> 0.0013559396
B16: Onderhoudscontract hydrofoor | C16: 627 | D16: =C16*Start!$C$16 -> 4.7025 | F16: =C16*Start!$C$15 -> 2.8842 | G16: =F16/12 -> 0.24035 | H16: =C16*Start!$C$17 -> 3.4485 | J16: =C16*Start!$C$18 -> 3.8874 | L16: =C16*Start!$C$19 -> 1.8183 | N16: =C16*Start!$C$22 -> 2.3826 | P16: =C16*Start!$C$20 -> 0.9405 | Q16: =C16*Start!$C$21 -> 1.1286 | R16: =C16 -> 627 | T16: =R16/$R$47 -> 0.0017003482
B17: Onderhoudscontract elektrische deur | C17: 4332 | D17: =C17*Start!$C$16 -> 32.49 | F17: =C17*Start!$C$15 -> 19.9272 | G17: =F17/12 -> 1.6606 | H17: =C17*Start!$C$17 -> 23.826 | J17: =C17*Start!$C$18 -> 26.8584 | L17: =C17*Start!$C$19 -> 12.5628 | N17: =C17*Start!$C$22 -> 16.4616 | P17: =C17*Start!$C$20 -> 6.498 | Q17: =C17*Start!$C$21 -> 7.7976 | R17: =C17 -> 4332 | T17: =R17/$R$47 -> 0.01174786
B18: Onderhoud / storingen elektrische deur | C18: 1400 | D18: =C18*Start!$C$16 -> 10.5 | F18: =C18*Start!$C$15 -> 6.44 | G18: =F18/12 -> 0.53666667 | H18: =C18*Start!$C$17 -> 7.7 | J18: =C18*Start!$C$18 -> 8.68 | L18: =C18*Start!$C$19 -> 4.06 | N18: =C18*Start!$C$22 -> 5.32 | P18: =C18*Start!$C$20 -> 2.1 | Q18: =C18*Start!$C$21 -> 2.52 | R18: =C18 -> 1400 | T18: =R18/$R$47 -> 0.0037966308
B19: Onderhoud / storingen liftinstallatie | C19: 1000 | D19: =C19*Start!$C$16 -> 7.5 | F19: =C19*Start!$C$15 -> 4.6 | G19: =F19/12 -> 0.38333333 | H19: =C19*Start!$C$17 -> 5.5 | J19: =C19*Start!$C$18 -> 6.2 | L19: =C19*Start!$C$19 -> 2.9 | N19: =C19*Start!$C$22 -> 3.8 | P19: =C19*Start!$C$20 -> 1.5 | Q19: =C19*Start!$C$21 -> 1.8 | R19: =C19 -> 1000 | T19: =R19/$R$47 -> 0.0027118791
B20: Onderhoudscontract liftinstallatie | C20: 9000 | D20: =C20*Start!$C$16 -> 67.5 | F20: =C20*Start!$C$15 -> 41.4 | G20: =F20/12 -> 3.45 | H20: =C20*Start!$C$17 -> 49.5 | J20: =C20*Start!$C$18 -> 55.8 | L20: =C20*Start!$C$19 -> 26.1 | N20: =C20*Start!$C$22 -> 34.2 | P20: =C20*Start!$C$20 -> 13.5 | Q20: =C20*Start!$C$21 -> 16.2 | R20: =C20 -> 9000 | T20: =R20/$R$47 -> 0.024406912
B21: Onderhoud zonwering | C21: 1000 | D21: =C21*Start!$C$16 -> 7.5 | F21: =C21*Start!$C$15 -> 4.6 | G21: =F21/12 -> 0.38333333 | H21: =C21*Start!$C$17 -> 5.5 | J21: =C21*Start!$C$18 -> 6.2 | L21: =C21*Start!$C$19 -> 2.9 | N21: =C21*Start!$C$22 -> 3.8 | P21: =C21*Start!$C$20 -> 1.5 | Q21: =C21*Start!$C$21 -> 1.8 | R21: =C21 -> 1000 | T21: =R21/$R$47 -> 0.0027118791
B22: Onderhoud dakveiligheid | C22: 550 | D22: =C22*Start!$C$16 -> 4.125 | F22: =C22*Start!$C$15 -> 2.53 | G22: =F22/12 -> 0.21083333 | H22: =C22*Start!$C$17 -> 3.025 | J22: =C22*Start!$C$18 -> 3.41 | L22: =C22*Start!$C$19 -> 1.595 | N22: =C22*Start!$C$22 -> 2.09 | P22: =C22*Start!$C$20 -> 0.825 | Q22: =C22*Start!$C$21 -> 0.99 | R22: =C22 -> 550 | T22: =R22/$R$47 -> 0.0014915335
B23: Legionellabeheer | C23: 2500 | D23: =C23*Start!$C$16 -> 18.75 | F23: =C23*Start!$C$15 -> 11.5 | G23: =F23/12 -> 0.95833333 | H23: =C23*Start!$C$17 -> 13.75 | J23: =C23*Start!$C$18 -> 15.5 | L23: =C23*Start!$C$19 -> 7.25 | N23: =C23*Start!$C$22 -> 9.5 | P23: =C23*Start!$C$20 -> 3.75 | Q23: =C23*Start!$C$21 -> 4.5 | R23: =C23 -> 2500 | T23: =R23/$R$47 -> 0.0067796978
B24: Onderhoud bliksemafleidingsinstallatie | C24: 300 | D24: =C24*Start!$C$16 -> 2.25 | F24: =C24*Start!$C$15 -> 1.38 | G24: =F24/12 -> 0.115 | H24: =C24*Start!$C$17 -> 1.65 | J24: =C24*Start!$C$18 -> 1.86 | L24: =C24*Start!$C$19 -> 0.87 | N24: =C24*Start!$C$22 -> 1.14 | P24: =C24*Start!$C$20 -> 0.45 | Q24: =C24*Start!$C$21 -> 0.54 | R24: =C24 -> 300 | T24: =R24/$R$47 -> 0.00081356373
B25: kosten brandmeldinstallatie | C25: 594 | D25: =C25*Start!$C$16 -> 4.455 | F25: =C25*Start!$C$15 -> 2.7324 | G25: =F25/12 -> 0.2277 | H25: =C25*Start!$C$17 -> 3.267 | J25: =C25*Start!$C$18 -> 3.6828 | L25: =C25*Start!$C$19 -> 1.7226 | N25: =C25*Start!$C$22 -> 2.2572 | P25: =C25*Start!$C$20 -> 0.891 | Q25: =C25*Start!$C$21 -> 1.0692 | R25: =C25 -> 594 | T25: =R25/$R$47 -> 0.0016108562
... B27: Onderhoudscontract bliksemafleidingsinstallatie | C27: 470 | D27: =C27*Start!$C$16 -> 3.525 | F27: =C27*Start!$C$15 -> 2.162 | G27: =F27/12 -> 0.18016667 | H27: =C27*Start!$C$17 -> 2.585 | J27: =C27*Start!$C$18 -> 2.914 | L27: =C27*Start!$C$19 -> 1.363 | N27: =C27*Start!$C$22 -> 1.786 | P27: =C27*Start!$C$20 -> 0.705 | Q27: =C27*Start!$C$21 -> 0.846 | R27: =C27 -> 470 | T27: =R27/$R$47 -> 0.0012745832
B28: Reservering groot onderhoud (dotatie) | C28: 231750 | D28: =C28*Start!$C$16 -> 1738.125 | E28: =D28/12 -> 144.84375 | F28: =C28*Start!$C$15 -> 1066.05 | G28: =F28/12 -> 88.8375 | H28: =C28*Start!$C$17 -> 1274.625 | I28: =H28/12 -> 106.21875 | J28: =C28*Start!$C$18 -> 1436.85 | K28: =J28/12 -> 119.7375 | L28: =C28*Start!$C$19 -> 672.075 | M28: =L28/12 -> 56.00625 | N28: =C28*Start!$C$22 -> 880.65 | O28: =N28/12 -> 73.3875 | P28: =C28*Start!$C$20 -> 347.625 | Q28: =C28*Start!$C$21 -> 417.15 | R28: =C28 -> 231750 | T28: =R28/$R$47 -> 0.62847798
B29: Energiekosten elektraverbruik (ALGEMENE RUIMTES) | C29: 70000 | D29: =C29*Start!$C$16 -> 525 | E29: =D29/12 -> 43.75 | F29: =C29*Start!$C$15 -> 322 | G29: =F29/12 -> 26.833333 | H29: =C29*Start!$C$17 -> 385 | I29: =H29/12 -> 32.083333 | J29: =C29*Start!$C$18 -> 434 | K29: =J29/12 -> 36.166667 | L29: =C29*Start!$C$19 -> 203 | M29: =L29/12 -> 16.916667 | N29: =C29*Start!$C$22 -> 266 | O29: =N29/12 -> 22.166667 | P29: =C29*Start!$C$20 -> 105 | Q29: =C29*Start!$C$21 -> 126
B30: Waterverbruik gemeenschappelijk en woningen | C30: 30000 | D30: =C30*Start!$C$16 -> 225 | E30: =D30/12 -> 18.75 | F30: =C30*Start!$C$15 -> 138 | G30: =F30/12 -> 11.5 | H30: =C30*Start!$C$17 -> 165 | I30: =H30/12 -> 13.75 | J30: =C30*Start!$C$18 -> 186 | K30: =J30/12 -> 15.5 | L30: =C30*Start!$C$19 -> 87 | M30: =L30/12 -> 7.25 | N30: =C30*Start!$C$22 -> 114 | O30: =N30/12 -> 9.5 | P30: =C30*Start!$C$20 -> 45 | Q30: =C30*Start!$C$21 -> 54
B31: Energiekosten gasverbruik (VIA VOORSCHOT) | C31: 0 | D31: =C31*Start!$C$16 -> 0 | E31: =D31/12 -> 0 | F31: =C31*Start!$C$15 -> 0 | G31: =F31/12 -> 0 | H31: =C31*Start!$C$17 -> 0 | I31: =H31/12 -> 0 | J31: =C31*Start!$C$18 -> 0 | K31: =J31/12 -> 0 | L31: =C31*Start!$C$19 -> 0 | M31: =L31/12 -> 0 | N31: =C31*Start!$C$22 -> 0 | O31: =N31/12 -> 0 | P31: =C31*Start!$C$20 -> 0 | Q31: =C31*Start!$C$21 -> 0
B32: Verenigingskosten | C32: 8000 | D32: =C32*Start!$C$16 -> 60 | F32: =C32*Start!$C$15 -> 36.8 | G32: =F32/12 -> 3.0666667 | H32: =C32*Start!$C$17 -> 44 | J32: =C32*Start!$C$18 -> 49.6 | L32: =C32*Start!$C$19 -> 23.2 | N32: =C32*Start!$C$22 -> 30.4 | P32: =C32*Start!$C$20 -> 12 | Q32: =C32*Start!$C$21 -> 14.4 | R32: =C32 -> 8000 | T32: =R32/$R$47 -> 0.021695033
B33: Accountantskosten | C33: 0 | D33: =C33*Start!$C$16 -> 0 | F33: =C33*Start!$C$15 -> 0 | G33: =F33/12 -> 0 | H33: =C33*Start!$C$17 -> 0 | J33: =C33*Start!$C$18 -> 0 | L33: =C33*Start!$C$19 -> 0 | N33: =C33*Start!$C$22 -> 0 | P33: =C33*Start!$C$20 -> 0 | Q33: =C33*Start!$C$21 -> 0 | R33: =C33 -> 0 | T33: =R33/$R$47 -> 0
B34: Declaratiekosten bestuursleden | C34: 7200 | D34: =C34*Start!$C$16 -> 54 | F34: =C34*Start!$C$15 -> 33.12 | G34: =F34/12 -> 2.76 | H34: =C34*Start!$C$17 -> 39.6 | J34: =C34*Start!$C$18 -> 44.64 | L34: =C34*Start!$C$19 -> 20.88 | N34: =C34*Start!$C$22 -> 27.36 | P34: =C34*Start!$C$20 -> 10.8 | Q34: =C34*Start!$C$21 -> 12.96 | R34: =C34 -> 7200 | T34: =R34/$R$47 -> 0.01952553
B35: Honorarium administratief beheerder | C35: 52660 | D35: =C35*Start!$C$16 -> 394.95 | F35: =C35*Start!$C$15 -> 242.236 | G35: =F35/12 -> 20.186333 | H35: =C35*Start!$C$17 -> 289.63 | J35: =C35*Start!$C$18 -> 326.492 | L35: =C35*Start!$C$19 -> 152.714 | N35: =C35*Start!$C$22 -> 200.108 | P35: =C35*Start!$C$20 -> 78.99 | Q35: =C35*Start!$C$21 -> 94.788 | R35: =C35 -> 52660 | T35: =R35/$R$47 -> 0.14280755
B36: Honorarium technisch beheerder | C36: 19365 | D36: =C36*Start!$C$16 -> 145.2375 | F36: =C36*Start!$C$15 -> 89.079 | G36: =F36/12 -> 7.42325 | H36: =C36*Start!$C$17 -> 106.5075 | J36: =C36*Start!$C$18 -> 120.063 | L36: =C36*Start!$C$19 -> 56.1585 | N36: =C36*Start!$C$22 -> 73.587 | P36: =C36*Start!$C$20 -> 29.0475 | Q36: =C36*Start!$C$21 -> 34.857 | R36: =C36 -> 19365 | T36: =R36/$R$47 -> 0.052515539
B37: Bankkosten | C37: 1500 | D37: =C37*Start!$C$16 -> 11.25 | F37: =C37*Start!$C$15 -> 6.9 | G37: =F37/12 -> 0.575 | H37: =C37*Start!$C$17 -> 8.25 | J37: =C37*Start!$C$18 -> 9.3 | L37: =C37*Start!$C$19 -> 4.35 | N37: =C37*Start!$C$22 -> 5.7 | P37: =C37*Start!$C$20 -> 2.25 | Q37: =C37*Start!$C$21 -> 2.7 | R37: =C37 -> 1500 | T37: =R37/$R$47 -> 0.0040678187
B38: Opbrengst logeerkamers | C38: -8000 | D38: =C38*Start!$C$16 -> -60 | F38: =C38*Start!$C$15 -> -36.8 | H38: =C38*Start!$C$17 -> -44 | J38: =C38*Start!$C$18 -> -49.6 | L38: =C38*Start!$C$19 -> -23.2 | N38: =C38*Start!$C$22 -> -30.4 | P38: =C38*Start!$C$20 -> -12 | Q38: =C38*Start!$C$21 -> -14.4 | R38: =C38 -> -8000 | T38: =R38/$R$47 -> -0.021695033
B39: Opbrengst wasssen | C39: -3000 | D39: =C39*Start!$C$16 -> -22.5 | F39: =C39*Start!$C$15 -> -13.8 | H39: =C39*Start!$C$17 -> -16.5 | J39: =C39*Start!$C$18 -> -18.6 | L39: =C39*Start!$C$19 -> -8.7 | N39: =C39*Start!$C$22 -> -11.4 | P39: =C39*Start!$C$20 -> -4.5 | Q39: =C39*Start!$C$21 -> -5.4 | R39: =C39 -> -3000 | T39: =R39/$R$47 -> -0.0081356373
B40: Totaal kosten | C40: =SUM(C4:C39) -> 486748 | D40: =C40*Start!$B$6 -> 3650.61 | F40: =C40*Start!$C$15 -> 2239.0408 | H40: =C40*Start!$C$17 -> 2677.114 | J40: =C40*Start!$C$18 -> 3017.8376 | L40: =C40*Start!$C$19 -> 1411.5692 | N40: =C40*Start!$C$22 -> 1849.6424 | P40: =C40*Start!$C$20 -> 730.122 | Q40: =C40*Start!$C$21 -> 876.1464 | R40: =SUM(R4:R39) -> 386748 | T40: =R40/$R$47 -> 1.0488138
B42: Opbrengsten
B43: Antennevergoeding | C43: 18000 | D43: =C43*Start!$C$16 -> 135 | F43: =C43*Start!$C$15 -> 82.8 | G43: =F43/12 -> 6.9 | H43: =C43*Start!$C$17 -> 99 | J43: =C43*Start!$C$18 -> 111.6 | L43: =C43*Start!$C$19 -> 52.2 | N43: =C43*Start!$C$22 -> 68.4 | P43: =C43*Start!$C$20 -> 27 | Q43: =C43*Start!$C$21 -> 32.4 | R43: =C43 -> 18000 | T43: =R43/$R$47 -> 0.048813824
B44: Rente | C44: 0 | D44: =C44*Start!$C$16 -> 0 | F44: =C44*Start!$C$15 -> 0 | H44: =C44*Start!$C$17 -> 0 | J44: =C44*Start!$C$18 -> 0 | L44: =C44*Start!$C$19 -> 0 | N44: =C44*Start!$C$22 -> 0 | P44: =C44*Start!$C$20 -> 0 | Q44: =C44*Start!$C$21 -> 0 | R44: =C44 -> 0
B45: Totaal opbrengsten | C45: =SUM(C43:C44) -> 18000 | D45: =C45*Start!$B$6 -> 135 | F45: =C45*Start!$C$15 -> 82.8 | H45: =C45*Start!$C$17 -> 99 | J45: =C45*Start!$C$18 -> 111.6 | L45: =C45*Start!$C$19 -> 52.2 | N45: =C45*Start!$C$22 -> 68.4 | P45: =C45*Start!$C$20 -> 27 | Q45: =C45*Start!$C$21 -> 32.4 | R45: =C45 -> 18000 | T45: =R45/$R$47 -> 0.048813824
R46: =C46 -> 0
A47: A | B47: Voorschotbijdrage = Totaal eigenaarslaten - algemeen breukdeel /10.000 | C47: =C40-C45 -> 468748 | D47: =C47*Start!$B$6 -> 3515.61 | E47: =D47/12 -> 292.9675 | F47: =C47*Start!$C$15 -> 2156.2408 | G47: =F47/12 -> 179.68673 | H47: =C47*Start!$C$17 -> 2578.114 | I47: =H47/12 -> 214.84283 | J47: =C47*Start!$C$18 -> 2906.2376 | K47: =J47/12 -> 242.18647 | L47: =C47*Start!$C$19 -> 1359.3692 | M47: =L47/12 -> 113.28077 | N47: =C47*Start!$C$22 -> 1781.2424 | O47: =N47/12 -> 148.43687 | P47: =C47*Start!$C$20 -> 703.122 | Q47: =C47*Start!$C$21 -> 843.7464 | R47: =R40-R45 -> 368748 | S47: =R47/R84 -> 0.37665743 | T47: =R47/$R$47 -> 1 | U47: =R47 -> 368748 | V47: =U47/U84 -> 0.37665743
A49: B | B49: Servicekosten
B50: Verdeling pondsgewijs ../204
B51: Bijdrage hoofdsplitsing | C51: 0 | D51: =C51/Start!$B$9 -> 0 | E51: =D51/12 -> 0 | F51: =$C51/Start!$B$9 -> 0 | H51: =$C51/Start!$B$9 -> 0 | J51: =$C51/Start!$B$9 -> 0 | L51: =$C51/Start!$B$9 -> 0 | N51: =$C51/Start!$B$9 -> 0 | R51: =C51 -> 0
B52: Onderhoud groenvoorziening | C52: 3628 | D52: =C52/Start!$B$9 -> 17.784314 | E52: =D52/12 -> 1.4820261 | F52: =$C52/Start!$B$9 -> 17.784314 | G52: =F52/12 -> 1.4820261 | H52: =$C52/Start!$B$9 -> 17.784314 | J52: =$C52/Start!$B$9 -> 17.784314 | L52: =$C52/Start!$B$9 -> 17.784314 | N52: =$C52/Start!$B$9 -> 17.784314 | R52: =C52 -> 3628 | T52: =R52/$R$59 -> 0.025712625
B53: Ongediertebestrijding | C53: 0 | D53: =C53/Start!$B$9 -> 0 | E53: =D53/12 -> 0 | F53: =$C53/Start!$B$9 -> 0 | G53: =F53/12 -> 0 | H53: =$C53/Start!$B$9 -> 0 | J53: =$C53/Start!$B$9 -> 0 | L53: =$C53/Start!$B$9 -> 0 | N53: =$C53/Start!$B$9 -> 0 | R53: =C53 -> 0
B54: Glasbewassing | C54: 4425 | D54: =C54/Start!$B$9 -> 21.691176 | E54: =D54/12 -> 1.807598 | F54: =$C54/Start!$B$9 -> 21.691176 | G54: =F54/12 -> 1.807598 | H54: =$C54/Start!$B$9 -> 21.691176 | J54: =$C54/Start!$B$9 -> 21.691176 | L54: =$C54/Start!$B$9 -> 21.691176 | N54: =$C54/Start!$B$9 -> 21.691176 | R54: =C54 -> 4425 | T54: =R54/$R$59 -> 0.031361182
B55: Kosten huismeester | C55: 96695 | D55: =C55/Start!$B$9 -> 473.9951 | E55: =D55/12 -> 39.499592 | F55: =$C55/Start!$B$9 -> 473.9951 | G55: =F55/12 -> 39.499592 | H55: =$C55/Start!$B$9 -> 473.9951 | J55: =$C55/Start!$B$9 -> 473.9951 | L55: =$C55/Start!$B$9 -> 473.9951 | N55: =$C55/Start!$B$9 -> 473.9951 | R55: =C55 -> 96695 | T55: =R55/$R$59 -> 0.68530383
B56: Bijdrage activiteitencommissie VvE Kortonjo | C56: 2500 | D56: =C56/Start!$B$9 -> 12.254902 | E56: =D56/12 -> 1.0212418 | F56: =$C56/Start!$B$9 -> 12.254902 | G56: =F56/12 -> 1.0212418 | H56: =$C56/Start!$B$9 -> 12.254902 | J56: =$C56/Start!$B$9 -> 12.254902 | L56: =$C56/Start!$B$9 -> 12.254902 | N56: =$C56/Start!$B$9 -> 12.254902 | R56: =C56 -> 2500 | T56: =R56/$R$59 -> 0.017718182
B57: Schoonmaakcontract algemene ruimten | C57: 33850 | D57: =C57/Start!$B$9 -> 165.93137 | E57: =D57/12 -> 13.827614 | F57: =$C57/Start!$B$9 -> 165.93137 | G57: =F57/12 -> 13.827614 | H57: =$C57/Start!$B$9 -> 165.93137 | J57: =$C57/Start!$B$9 -> 165.93137 | L57: =$C57/Start!$B$9 -> 165.93137 | N57: =$C57/Start!$B$9 -> 165.93137 | R57: =C57 -> 33850 | T57: =R57/$R$59 -> 0.23990418
R58: =C58 -> 0
A59: B | B59: Totaal servicekosten | C59: =SUM(C51:C58) -> 141098 | D59: =$C59/Start!$B$9 -> 691.65686 | E59: =D59/12 -> 57.638072 | F59: =$C59/Start!$B$9 -> 691.65686 | G59: =F59/12 -> 57.638072 | H59: =$C59/Start!$B$9 -> 691.65686 | I59: =H59/12 -> 57.638072 | J59: =$C59/Start!$B$9 -> 691.65686 | K59: =J59/12 -> 57.638072 | L59: =$C59/Start!$B$9 -> 691.65686 | M59: =L59/12 -> 57.638072 | N59: =$C59/Start!$B$9 -> 691.65686 | O59: =N59/12 -> 57.638072 | P59: 0 | Q59: 0 | R59: =C59 -> 141098 | S59: =R59/R84 -> 0.14412447 | T59: =R59/$R$59 -> 1
A61: C | B61: Kosten beschermd wonen
B62: Verdeling pondsgewijs ../204
B63: Onderhoud alarmapparatuur (zorgalarmering) BHV | C63: 7924 | D63: =$C63/Start!$B$9 -> 38.843137 | E63: =D63/12 -> 3.2369281 | F63: =$C63/Start!$B$9 -> 38.843137 | G63: =F63/12 -> 3.2369281 | H63: =$C63/Start!$B$9 -> 38.843137 | J63: =$C63/Start!$B$9 -> 38.843137 | L63: =$C63/Start!$B$9 -> 38.843137 | N63: =$C63/Start!$B$9 -> 38.843137 | R63: =C63 -> 7924 | T63: =R63/$R$70 -> 0.021465238
B64: Calamiteitenzorg (zorgkastje) | C64: 190335 | D64: =$C64/Start!$B$9 -> 933.01471 | E64: =D64/12 -> 77.751225 | F64: =$C64/Start!$B$9 -> 933.01471 | G64: =F64/12 -> 77.751225 | H64: =$C64/Start!$B$9 -> 933.01471 | I64: =H64/12 -> 77.751225 | J64: =$C64/Start!$B$9 -> 933.01471 | K64: =J64/12 -> 77.751225 | L64: =$C64/Start!$B$9 -> 933.01471 | N64: =$C64/Start!$B$9 -> 933.01471 | R64: =C64 -> 190335 | T64: =R64/$R$70 -> 0.51559643
B65: Activiteitenbegeleiding | C65: 0 | D65: =$C65/Start!$B$9 -> 0 | E65: =D65/12 -> 0 | F65: =$C65/Start!$B$9 -> 0 | G65: =F65/12 -> 0 | H65: =$C65/Start!$B$9 -> 0 | J65: =$C65/Start!$B$9 -> 0 | L65: =$C65/Start!$B$9 -> 0 | N65: =$C65/Start!$B$9 -> 0 | R65: =C65 -> 0
B66: Bedrijfs Hulp Verlening (BHV kosten) | C66: 18386 | D66: =$C66/Start!$B$9 -> 90.127451 | E66: =D66/12 -> 7.5106209 | F66: =$C66/Start!$B$9 -> 90.127451 | G66: =F66/12 -> 7.5106209 | H66: =$C66/Start!$B$9 -> 90.127451 | J66: =$C66/Start!$B$9 -> 90.127451 | L66: =$C66/Start!$B$9 -> 90.127451 | N66: =$C66/Start!$B$9 -> 90.127451 | R66: =C66 -> 18386 | T66: =R66/$R$70 -> 0.049805637
B67: Medewerker Praethuys | C67: 93186 | D67: =$C67/Start!$B$9 -> 456.79412 | E67: =D67/12 -> 38.066176 | F67: =$C67/Start!$B$9 -> 456.79412 | G67: =F67/12 -> 38.066176 | H67: =$C67/Start!$B$9 -> 456.79412 | J67: =$C67/Start!$B$9 -> 456.79412 | L67: =$C67/Start!$B$9 -> 456.79412 | N67: =$C67/Start!$B$9 -> 456.79412 | R67: =C67 -> 93186 | T67: =R67/$R$70 -> 0.25243055
B68: Schoonmaak tussengebouw | C68: 17047 | D68: =$C68/Start!$B$9 -> 83.563725 | E68: =D68/12 -> 6.9636438 | F68: =$C68/Start!$B$9 -> 83.563725 | G68: =F68/12 -> 6.9636438 | H68: =$C68/Start!$B$9 -> 83.563725 | J68: =$C68/Start!$B$9 -> 83.563725 | L68: =$C68/Start!$B$9 -> 83.563725 | N68: =$C68/Start!$B$9 -> 83.563725 | R68: =C68 -> 17047 | T68: =R68/$R$70 -> 0.046178435
B69: Kosten levering diensten tussengebouw | C69: 42277 | D69: =$C69/Start!$B$9 -> 207.2402 | E69: =D69/12 -> 17.270016 | F69: =$C69/Start!$B$9 -> 207.2402 | G69: =F69/12 -> 17.270016 | H69: =$C69/Start!$B$9 -> 207.2402 | J69: =$C69/Start!$B$9 -> 207.2402 | L69: =$C69/Start!$B$9 -> 207.2402 | N69: =$C69/Start!$B$9 -> 207.2402 | R69: =C69 -> 42277 | T69: =R69/$R$70 -> 0.11452371
A70: C | B70: Totaal kosten beschermd wonen | C70: =SUM(C63:C69) -> 369155 | D70: =$C70/Start!$B$9 -> 1809.5833 | E70: =D70/12 -> 150.79861 | F70: =$C70/Start!$B$9 -> 1809.5833 | G70: =F70/12 -> 150.79861 | H70: =$C70/Start!$B$9 -> 1809.5833 | I70: =H70/12 -> 150.79861 | J70: =$C70/Start!$B$9 -> 1809.5833 | K70: =J70/12 -> 150.79861 | L70: =$C70/Start!$B$9 -> 1809.5833 | M70: =L70/12 -> 150.79861 | N70: =$C70/Start!$B$9 -> 1809.5833 | O70: =N70/12 -> 150.79861 | P70: 0 | Q70: 0 | R70: =C70 -> 369155 | S70: =R70/R84 -> 0.37707316 | T70: =R70/$R$70 -> 1
B72: Rubriek B en C
B73: Verdeling pondsgewijs ../204
B74: Totaal kosten rubriek B en C | U74: =R59+R70 -> 510253 | V74: =U74/U84 -> 0.52119763
A76: D | B76: Energie kosten
B77: Volgens artikel 2 lid 3 breukdeel …/10.000 | Z77: appartementen | AA77: algemene ruimten
B78: Energiekosten elektraverbruik | D78: =$R$78*Start!$C$16 -> 525 | E78: =D78/12 -> 43.75 | F78: =$R$78*Start!$C$15 -> 322 | G78: =F78/12 -> 26.833333 | H78: =$R78*Start!$C$17 -> 385 | I78: =H78/12 -> 32.083333 | J78: =$R78*Start!$C$18 -> 434 | K78: =J78/12 -> 36.166667 | L78: =$R78*Start!$C$19 -> 203 | M78: =L78/12 -> 16.916667 | N78: =$R78*Start!$C$22 -> 266 | O78: =N78/12 -> 22.166667 | P78: =$R78*Start!$C$20 -> 105 | Q78: =$R78*Start!$C$21 -> 126 | R78: =C29 -> 70000 | T78: =R78/$R$82 -> 0.7 | W78: electra kosten 2025 | X78: 456572 | Y78: 267743 | Z78: 77580 | AA78: =Y78-Z78 -> 190163
B79: Waterverbruik gemeenschappelijk en woningen | D79: =$R$79*Start!$C$16 -> 225 | E79: =D79/12 -> 18.75 | F79: =$R$79*Start!$C$15 -> 138 | G79: =F79/12 -> 11.5 | H79: =$R79*Start!$C$17 -> 165 | I79: =H79/12 -> 13.75 | J79: =$R79*Start!$C$18 -> 186 | K79: =J79/12 -> 15.5 | L79: =$R79*Start!$C$19 -> 87 | M79: =L79/12 -> 7.25 | N79: =$R79*Start!$C$22 -> 114 | O79: =N79/12 -> 9.5 | P79: =$R79*Start!$C$20 -> 45 | Q79: =$R79*Start!$C$21 -> 54 | R79: =C30 -> 30000 | T79: =R79/$R$82 -> 0.3
B80: Energiekosten gasverbruik vast incl. warm water | D80: =$R$80*Start!$C$16 -> 0 | E80: =D80/12 -> 0 | F80: =$R$80*Start!$C$15 -> 0 | G80: =F80/12 -> 0 | H80: =$R80*Start!$C$17 -> 0 | I80: =H80/12 -> 0 | J80: =$R80*Start!$C$18 -> 0 | K80: =J80/12 -> 0 | L80: =$R80*Start!$C$19 -> 0 | M80: =L80/12 -> 0 | N80: =$R80*Start!$C$22 -> 0 | O80: =N80/12 -> 0 | P80: =$R80*Start!$C$20 -> 0 | Q80: =$R80*Start!$C$21 -> 0 | R80: =C31 -> 0 | T80: =R80/$R$82 -> 0
A82: D | B82: Totaal energie kosten | D82: =R82*Start!$C$16 -> 750 | E82: =D82/12 -> 62.5 | F82: =R82*Start!$C$15 -> 460 | G82: =F82/12 -> 38.333333 | H82: =R82*Start!$C$17 -> 550 | I82: =H82/12 -> 45.833333 | J82: =R82*Start!$C$18 -> 620 | K82: =J82/12 -> 51.666667 | L82: =R82*Start!$C$19 -> 290 | M82: =L82/12 -> 24.166667 | N82: =R82*Start!$C$22 -> 380 | O82: =N82/12 -> 31.666667 | P82: =R82*Start!$C$20 -> 150 | Q82: =R82*Start!$C$21 -> 180 | R82: =SUM(R78:R80) -> 100000 | S82: =R82/R84 -> 0.10214494 | T82: =R82/$R$82 -> 1 | U82: =R82 -> 100000 | V82: =U82/U84 -> 0.10214494
B84: Totaal service kosten 2027 | C84: =C47+C59+C70 -> 979001 | D84: =D47+D59+D70 -> 6016.8502 | E84: =E47+E59+E70 -> 501.40418 | F84: =F47+F59+F70 -> 4657.481 | G84: =F84/12 -> 388.12342 | H84: =H47+H59+H70 -> 5079.3542 | I84: =H84/12 -> 423.27952 | J84: =J47+J59+J70 -> 5407.4778 | K84: =J84/12 -> 450.62315 | L84: =L47+L59+L70 -> 3860.6094 | M84: =L84/12 -> 321.71745 | N84: =N47+N59+N70 -> 4282.4826 | O84: =N84/12 -> 356.87355 | P84: =P47+P59+P70 -> 703.122 | Q84: =Q47+Q59+Q70 -> 843.7464 | R84: =C84 -> 979001 | S84: =SUM(S47:S82) -> 1 | U84: =SUM(U47:U82) -> 979001 | V84: =SUM(V47:V82) -> 1
B85: Serevicekosten 2026 | C85: 1207371.9 | D85: 7792.4704 | E85: 649.37254 | F85: 5700.6834 | G85: 475.05695 | H85: 6349.8587 | I85: 529.15489 | J85: 6854.7728 | K85: 571.23107 | L85: 4474.4635 | M85: 372.87196 | N85: 5123.6387 | O85: 426.96989 | P85: 1081.9588 | Q85: 1298.3505
B86: verschil 2026 tov 2027 | C86: =C84-C85 -> -228370.86 | D86: =D84-D85 -> -1775.6202 | E86: =E84-E85 -> -147.96835 | F86: =F84-F85 -> -1043.2024 | G86: =G84-G85 -> -86.933536 | H86: =H84-H85 -> -1270.5045 | I86: =I84-I85 -> -105.87538 | J86: =J84-J85 -> -1447.295 | ... N86: =N84-N85 -> -841.15614
B88: terugontvangen energiebelasting 2018 - 2022 | C88: 372908 | D88: =C88*Start!$B$6 -> 2796.81 | F88: =C88*Start!$C$15 -> 1715.3768 | H88: =C88*Start!$C$17 -> 2050.994 | J88: =C88*Start!$C$18 -> 2312.0296 | L88: =C88*Start!$C$19 -> 1081.4332 | N88: =C88*Start!$C$22 -> 1417.0504 | P88: =C88*Start!$C$20 -> 559.362 | Q88: =C88*Start!$C$21 -> 671.2344
B89: terugontvangen energiebelasting 2023 | C89: 92948 | D89: =$C$89*Start!$B$6 -> 697.11 | F89: =$C$89*Start!$C$15 -> 427.5608 | H89: =$C$89*Start!$C$17 -> 511.214 | J89: =$C$89*Start!$C$18 -> 576.2776 | L89: =$C$89*Start!$C$19 -> 269.5492 | N89: =$C$89*Start!$C$22 -> 353.2024 | P89: =$C$89*Start!$C$20 -> 139.422 | Q89: =$C$89*Start!$C$21 -> 167.3064
B90: terugontvangen energiebelasting 2024 | C90: 108730 | D90: =$C$90*Start!$B$6 -> 815.475 | F90: =$C$90*Start!$C$15 -> 500.158 | H90: =$C$90*Start!$C$17 -> 598.015 | J90: =$C$90*Start!$C$18 -> 674.126 | L90: =$C$90*Start!$C$19 -> 315.317 | N90: =$C$90*Start!$C$22 -> 413.174 | P90: =$C$90*Start!$C$20 -> 163.095 | Q90: =$C$90*Start!$C$21 -> 195.714
B91: terugontvangen energiebelasting 2025 | C91: 109215 | D91: =$C$91*Start!$B$6 -> 819.1125 | F91: =$C$91*Start!$C$15 -> 502.389 | H91: =$C$91*Start!$C$17 -> 600.6825 | J91: =$C$91*Start!$C$18 -> 677.133 | L91: =$C$91*Start!$C$19 -> 316.7235 | N91: =$C$91*Start!$C$22 -> 415.017 | P91: =$C$91*Start!$C$20 -> 163.8225 | Q91: =$C$91*Start!$C$21 -> 196.587
F94: =Start!D15 -> 151 | H94: =Start!D17 -> 12 | J94: =Start!D18 -> 25 | L94: =Start!D19 -> 25 | N94: =Start!D22 -> 1 | P94: =Start!D20 -> 3 | Q94: =Start!D21 -> 2
B95: Aantal appartermenten per type | C95: =SUM(D95:Q95) -> 209 | D95: =Start!D24 -> 10 | F95: =F94-D95 -> 141 | H95: =H94 -> 12 | J95: =J94 -> 25 | L95: =Start!D19-D95 -> 15 | N95: =N94 -> 1 | P95: =P94 -> 3 | Q95: =Q94 -> 2
B96: Aantal logeerkamers | C96: =P95+Q95 -> 5
B97: Totaal pondsgewijs excl. logeerkamers | C97: =C95-C96 -> 204
B99: Controle berekening
A100: A | B100: Totaal eigenaarslasten - algemeen breukdeel /10.000 | C100: =SUM(D100:Q100) -> 468748 | D100: =D47*D95 -> 35156.1 | F100: =F47*F95 -> 304029.95 | H100: =H47*H94 -> 30937.368 | J100: =J47*J94 -> 72655.94 | L100: =L95*L47 -> 20390.538 | N100: =N47*N94 -> 1781.2424 | P100: =P47*P94 -> 2109.366 | Q100: =Q47*Q94 -> 1687.4928
A101: B | B101: Totaal servicekosten PONDSGEWIJS | C101: =SUM(D101:Q101) -> 141098 | D101: =D95*D59 -> 6916.5686 | F101: =F95*F59 -> 97523.618 | H101: =H94*H59 -> 8299.8824 | J101: =J94*J59 -> 17291.422 | L101: =L95*L59 -> 10374.853 | N101: =N94*N59 -> 691.65686 | P101: =P94*P59 -> 0 | Q101: =Q94*Q59 -> 0
A102: C | B102: Totaal kosten beschermd wonen PONDSGEWIJS | C102: =SUM(D102:Q102) -> 369155 | D102: =D70*D95 -> 18095.833 | F102: =F70*F95 -> 255151.25 | H102: =H70*H94 -> 21715 | J102: =J70*J94 -> 45239.583 | L102: =L70*L95 -> 27143.75 | N102: =N70*N94 -> 1809.5833 | P102: =P70*P94 -> 0 | Q102: =Q70*Q94 -> 0
B103: Totaal service kosten | C103: =SUM(C100:C102) -> 979001
B106: Controle energiebelasting 2018-2022 | C106: =SUM(D106:Q106) -> 372908 | D106: =D88*D95 -> 27968.1 | F106: =F88*F95 -> 241868.13 | H106: =H88*H95 -> 24611.928 | J106: =J88*J95 -> 57800.74 | L106: =L88*L95 -> 16221.498 | N106: =N88*N95 -> 1417.0504 | P106: =P88*P95 -> 1678.086 | Q106: =Q88*Q95 -> 1342.4688
B107: Controle energiebelasting 2023 | C107: =SUM(D107:Q107) -> 92948 | D107: =D95*D89 -> 6971.1 | F107: =F95*F89 -> 60286.073 | H107: =H95*H89 -> 6134.568 | J107: =J95*J89 -> 14406.94 | L107: =L95*L89 -> 4043.238 | N107: =N95*N89 -> 353.2024 | P107: =P95*P89 -> 418.266 | Q107: =Q95*Q89 -> 334.6128
B108: Controle energiebelasting 2024 | C108: =SUM(D108:Q108) -> 108730 | D108: =D90*D95 -> 8154.75 | F108: =F90*F95 -> 70522.278 | H108: =H90*H95 -> 7176.18 | J108: =J90*J95 -> 16853.15 | L108: =L90*L95 -> 4729.755 | N108: =N90*N95 -> 413.174 | P108: =P90*P95 -> 489.285 | Q108: =Q90*Q95 -> 391.428
B109: Controle energiebelasting 2025 | C109: =SUM(D109:Q109) -> 109215 | D109: =D91*D95 -> 8191.125 | F109: =F91*F95 -> 70836.849 | H109: =H91*H95 -> 7208.19 | J109: =J91*J95 -> 16928.325 | L109: =L91*L95 -> 4750.8525 | N109: =N91*N95 -> 415.017 | P109: =P91*P95 -> 491.4675 | Q109: =Q91*Q95 -> 393.174
C116: ex btw | D116: btw | E116: btw | F116: incl btw
B117: terugontvangen energiebelasting 2025 | C117: 90260 | D117: 0.21 | E117: =C117*D117 -> 18954.6 | F117: =E117+C117 -> 109214.6

Sheet rubriceren nieuw
C1: 2027 | I1: 2026 | M1: 2025 | Q1: 2024 | U1: 2023 | Y1: 2022
A2: A | B2: Eigenaarslasten | C2: 2027 | D2: App. A p/jaar | E2: App. A p/mnd | F2: % tov rubriek | G2: % tov totaal | I2: 2026 | J2: % tov rubriek | K2: % tov totaal | M2: 2025 | N2: % tov rubriek | O2: % tov totaal | Q2: 2024 | R2: % tov rubriek | S2: % tov totaal | U2: 2023 | V2: % tov rubriek | W2: % tov totaal | Y2: 2022 | Z2: % tov rubriek | AA2: % tov totaal
B3: Verzekeringen
B4: {='2027 Begroting posten'!B4:C4} -> Premie opstalverzekering | C4: 25570 | D4: =C4*Start!$C$15 -> 117.622 | E4: =D4/12 -> 9.8018333 | I4: 24353 | M4: 21750 | Q4: 19550 | U4: 17000 | Y4: 16000
B5: {='2027 Begroting posten'!B5:C5} -> Premie glasverzekering | C5: 1997 | D5: =C5*Start!$C$15 -> 9.1862 | E5: =D5/12 -> 0.76551667 | I5: 1902 | M5: 1980 | Q5: 1980 | U5: 1725 | Y5: 1850
B6: {='2027 Begroting posten'!B6:C6} -> Premie wettelijke aansprakelijkheid | C6: 3025 | D6: =C6*Start!$C$15 -> 13.915 | E6: =D6/12 -> 1.1595833 | I6: 2881 | M6: 2650 | Q6: 2500 | U6: 2200 | Y6: 2350
B7: {='2027 Begroting posten'!B7:C9} -> Premie ongevallenverzekering | C7: 40 | D7: =C7*Start!$C$15 -> 0.184 | E7: =D7/12 -> 0.015333333 | I7: 40
B8: Premie bestuurdersaansprakelijkheid | C8: 427 | D8: =C8*Start!$C$15 -> 1.9642 | E8: =D8/12 -> 0.16368333 | I8: 407 | M8: 450 | Q8: 350 | U8: 350 | Y8: 350
B9: Overeenkomst juridische dienstverlening | C9: 2664 | D9: =C9*Start!$C$15 -> 12.2544 | E9: =D9/12 -> 1.0212 | I9: 2537 | M9: 2350 | Q9: 2190 | U9: 2090 | Y9: 1780
B10: Verzekeringen totaal | C10: =SUM(C4:C9) -> 33723 | D10: =C10*Start!$C$15 -> 155.1258 | E10: =D10/12 -> 12.92715 | F10: =C10/$C$50 -> 0.091452699 | I10: =SUM(I4:I9) -> 32120 | J10: =I10/I50 -> 0.091156254 | M10: =SUM(M4:M9) -> 29180 | N10: =M10/M50 -> 0.085520184 | Q10: =SUM(Q4:Q9) -> 26570 | R10: =Q10/Q50 -> 0.08354133 | U10: =SUM(U4:U9) -> 23365 | V10: =U10/U50 -> 0.080831777 | Y10: =SUM(Y4:Y9) -> 22330 | Z10: =Y10/Y50 -> 0.080429732
B12: Onderhoud
B13: {='2027 Begroting posten'!B10:C27} -> Dagelijks onderhoud | C13: 8000 | D13: =C13*Start!$C$15 -> 36.8 | E13: =D13/12 -> 3.0666667 | I13: 8000 | M13: 7000 | Q13: 6000 | U13: 6000 | Y13: 6000
B14: Onderhoudscontract W-installatie stelpost (CV-installatie) | C14: 8697 | D14: =C14*Start!$C$15 -> 40.0062 | E14: =D14/12 -> 3.33385 | I14: 6315 | M14: 5781 | Q14: 4100 | U14: 4000 | Y14: 3600
B15: Onderhoud W-installatie stelpost (CV-Installatie) | C15: 2000 | D15: =C15*Start!$C$15 -> 9.2 | E15: =D15/12 -> 0.76666667 | I15: 2000 | M15: 2000 | Q15: 5000 | U15: 5000 | Y15: 5000
B16: Onderhoudscontract E-installatie stelpost (noodverlichting + NSA) | C16: 0 | D16: =C16*Start!$C$15 -> 0 | E16: =D16/12 -> 0 | M16: 0 | Q16: 0 | U16: 0 | Y16: 1000
B17: Onderhoudskosten E-installatie stelpost | C17: 1500 | D17: =C17*Start!$C$15 -> 6.9 | E17: =D17/12 -> 0.575 | I17: 1500 | M17: 1500 | Q17: 1500 | U17: 1500 | Y17: 1500
B18: Onderhoud storingen hydrofoor | C18: 500 | D18: =C18*Start!$C$15 -> 2.3 | E18: =D18/12 -> 0.19166667 | I18: 500 | M18: 500 | Q18: 500 | U18: 500 | Y18: 500
B19: Onderhoudscontract hydrofoor | C19: 627 | D19: =C19*Start!$C$15 -> 2.8842 | E19: =D19/12 -> 0.24035 | I19: 597 | M19: 565 | Q19: 540 | U19: 520 | Y19: 520
B20: Onderhoudscontract elektrische deur | C20: 4332 | D20: =C20*Start!$C$15 -> 19.9272 | E20: =D20/12 -> 1.6606 | I20: 4125 | M20: 3850 | Q20: 3400 | U20: 3275 | Y20: 2700
B21: Onderhoud / storingen elektrische deur | C21: 1400 | D21: =C21*Start!$C$15 -> 6.44 | E21: =D21/12 -> 0.53666667 | I21: 1400 | M21: 1400 | Q21: 1000 | U21: 1000 | Y21: 1000
B22: Onderhoud / storingen liftinstallatie | C22: 1000 | D22: =C22*Start!$C$15 -> 4.6 | E22: =D22/12 -> 0.38333333 | I22: 1000 | M22: 1000 | Q22: 1000 | U22: 1000 | Y22: 1000
B23: Onderhoudscontract liftinstallatie | C23: 9000 | D23: =C23*Start!$C$15 -> 41.4 | E23: =D23/12 -> 3.45 | I23: 7140 | M23: 5500 | Q23: 6950 | U23: 6695 | Y23: 5850
B24: Onderhoud zonwering | C24: 1000 | D24: =C24*Start!$C$15 -> 4.6 | E24: =D24/12 -> 0.38333333 | I24: 1000 | M24: 1000 | Q24: 3500 | U24: 3500 | Y24: 3500
B25: Onderhoud dakveiligheid | C25: 550 | D25: =C25*Start!$C$15 -> 2.53 | E25: =D25/12 -> 0.21083333 | I25: 524 | M25: 500 | Q25: 500 | U25: 500
B26: Legionellabeheer | C26: 2500 | D26: =C26*Start!$C$15 -> 11.5 | E26: =D26/12 -> 0.95833333 | I26: 2500 | M26: 3750 | Q26: 4250 | U26: 4250 | Y26: 4250
B27: Onderhoud bliksemafleidingsinstallatie | C27: 300 | D27: =C27*Start!$C$15 -> 1.38 | E27: =D27/12 -> 0.115 | I27: 300 | M27: 300 | Q27: 300 | U27: 300 | Y27: 300
B28: kosten brandmeldinstallatie | C28: 594 | D28: =C28*Start!$C$15 -> 2.7324 | E28: =D28/12 -> 0.2277 | I28: 565 | M28: 0 | Q28: 1020 | U28: 980 | Y28: 500
B29: Onderhoudcontract droge blusleiding. | C29: 1080 | D29: =C29*Start!$C$15 -> 4.968 | E29: =D29/12 -> 0.414 | I29: 1030 | M29: 1020 | Q29: 1000 | U29: 1000 | Y29: 1000
B30: Onderhoudscontract bliksemafleidingsinstallatie | C30: 470 | D30: =C30*Start!$C$15 -> 2.162 | E30: =D30/12 -> 0.18016667 | I30: 450 | M30: 470 | Q30: 470 | U30: 470 | Y30: 470
B31: Totaal onderhoud | C31: =SUM(C13:C30) -> 43550 | D31: =C31*Start!$C$15 -> 200.33 | E31: =D31/12 -> 16.694167 | F31: =C31/$C$50 -> 0.11810234 | I31: =SUM(I13:I30) -> 38946 | J31: =I31/I50 -> 0.11052838 | M31: =SUM(M13:M30) -> 36136 | N31: =M31/M50 -> 0.1059067 | Q31: =SUM(Q13:Q30) -> 41030 | R31: =Q31/Q50 -> 0.12900643 | U31: =SUM(U13:U30) -> 40490 | V31: =U31/U50 -> 0.14007613 | Y31: =SUM(Y13:Y30) -> 38690 | Z31: =Y31/Y50 -> 0.13935631
B33: Kosten
B34: {='2027 Begroting posten'!B32:C37} -> Verenigingskosten | C34: 8000 | D34: =C34*Start!$C$15 -> 36.8 | E34: =D34/12 -> 3.0666667 | I34: 8000 | M34: 5000 | Q34: 5000 | U34: 5000 | Y34: 5000
B35: Accountantskosten | C35: 0 | D35: =C35*Start!$C$15 -> 0 | E35: =D35/12 -> 0 | I35: 0 | M35: 3000 | Q35: 4910 | U35: 4720 | Y35: 4000
B36: Declaratiekosten bestuursleden | C36: 7200 | D36: =C36*Start!$C$15 -> 33.12 | E36: =D36/12 -> 2.76 | I36: 7200 | M36: 5000 | Q36: 5000 | U36: 5000 | Y36: 5000
B37: Honorarium administratief beheerder | C37: 52660 | D37: =C37*Start!$C$15 -> 242.236 | E37: =D37/12 -> 20.186333 | I37: 50153 | M37: 47962 | Q37: 46565 | U37: 44346.71 | Y37: 39433.65
B38: Honorarium technisch beheerder | C38: 19365 | D38: =C38*Start!$C$15 -> 89.079 | E38: =D38/12 -> 7.42325 | I38: 18443 | M38: 17428 | Q38: 16921.17 | U38: 16115.4 | Y38: 14330
B39: Bankkosten | C39: 1500 | D39: =C39*Start!$C$15 -> 6.9 | E39: =D39/12 -> 0.575 | I39: 1500 | M39: 1500 | Q39: 1050 | U39: 1020 | Y39: 850
B40: Totaal kosten | C40: =SUM(C34:C39) -> 88725 | D40: =C40*Start!$C$15 -> 408.135 | E40: =D40/12 -> 34.01125 | F40: =C40/$C$50 -> 0.24061147 | I40: =SUM(I34:I39) -> 85296 | J40: =I40/I50 -> 0.24206924 | M40: =SUM(M34:M39) -> 79890 | N40: =M40/M50 -> 0.23414008 | Q40: =SUM(Q34:Q39) -> 79446.17 | R40: =Q40/Q50 -> 0.24979446 | U40: =SUM(U34:U39) -> 76202.11 | Y40: =SUM(Y34:Y39) -> 68613.65 | Z40: =Y40/Y50 -> 0.24713737
B42: Dotatie
B43: {='2027 Begroting posten'!B28:C28} -> Reservering groot onderhoud (dotatie) | C43: 231750 | D43: =C43*Start!$C$15 -> 1066.05 | E43: =D43/12 -> 88.8375 | F43: =C43/$C$50 -> 0.62847798 | I43: 225000 | J43: =I43/I50 -> 0.63854786 | M43: 225000 | N43: =M43/M50 -> 0.65942568 | Q43: 200000 | R43: =Q43/Q50 -> 0.62883952 | U43: 175000 | V43: =U43/U50 -> 0.60541669 | Y43: 175000 | Z43: =Y43/Y50 -> 0.63032705
B45: Opbrengsten
B46: {='2027 Begroting posten'!B38:C39} -> Opbrengst logeerkamers | C46: -8000 | D46: =C46*Start!$C$15 -> -36.8 | E46: =D46/12 -> -3.0666667 | I46: -8000 | M46: -8000 | Q46: -8000 | U46: -6000 | Y46: -4000
B47: Opbrengst wasssen | C47: -3000 | D47: =C47*Start!$C$15 -> -13.8 | E47: =D47/12 -> -1.15 | I47: -3000 | M47: -3000 | Q47: -3000 | U47: -2000 | Y47: -2000
B48: {='2027 Begroting posten'!B43:C43} -> Antennevergoeding | C48: 18000 | D48: =C48*Start!$C$15 -> 82.8 | E48: =D48/12 -> 6.9 | I48: 18000 | M48: 18000 | Q48: 18000 | U48: 18000 | Y48: 21000
B49: Totaal opbrengsten | C49: =(C46+C47)-C48 -> -29000 | D49: =C49*Start!$C$15 -> -133.4 | E49: =D49/12 -> -11.116667 | F49: =C49/$C$50 -> -0.078644494 | I49: =(I46+I47)-I48 -> -29000 | J49: =I49/I50 -> -0.082301724 | M49: =(M46+M47)-M48 -> -29000 | N49: =M49/M50 -> -0.084992644 | Q49: =(Q46+Q47)-Q48 -> -29000 | R49: =Q49/Q50 -> -0.09118173 | U49: =(U46+U47)-U48 -> -26000 | V49: =U49/U50 -> -0.089947623 | Y49: =(Y46+Y47)-Y48 -> -27000 | Z49: =Y49/Y50 -> -0.097250459
A50: A | B50: Totaal servicekosten - opbrengsten | C50: =C10+C31+C40+C43+C49 -> 368748 | D50: =C50*Start!$C$15 -> 1696.2408 | E50: =D50/12 -> 141.3534 | G50: =C50/$C$75 -> 0.37665743 | I50: =I10+I31+I40+I43+I49 -> 352362 | K50: =I50/I75 -> 0.29184215 | M50: =M10+M31+M40+M43+M49 -> 341206 | O50: =M50/M75 -> 0.2953198 | Q50: =Q10+Q31+Q40+Q43+Q49 -> 318046.17 | S50: =Q50/Q75 -> 0.30616095 | U50: =U10+U31+U40+U43+U49 -> 289057.11 | W50: =U50/U75 -> 0.31271508 | Y50: =Y10+Y31+Y40+Y43+Y49 -> 277633.65 | AA50: =Y50/Y75 -> 0.31048041
A52: D | B52: Eigenaarslasten Energie
B53: Gas/water/elektra
B54: {='2027 Begroting posten'!B29:C29} -> Energiekosten elektraverbruik (ALGEMENE RUIMTES) | C54: 70000 | D54: =C54*Start!$C$15 -> 322 | E54: =D54/12 -> 26.833333 | I54: 70000 | M54: 93500 | Q54: 35000 | U54: 25000 | Y54: 30000
B55: {='2027 Begroting posten'!B30:C30} -> Waterverbruik gemeenschappelijk en woningen | C55: 30000 | D55: =C55*Start!$C$15 -> 138 | E55: =D55/12 -> 11.5 | I55: 30000 | M55: 25000 | Q55: 25000 | U55: 25000 | Y55: 30000
A56: * | B56: {='2027 Begroting posten'!B31:C31} -> Energiekosten gasverbruik (VIA VOORSCHOT) | C56: 0 | D56: =C56*Start!$C$15 -> 0 | E56: =D56/12 -> 0 | I56: 268943.86 | M56: 250000 | Q56: 225000 | U56: 170000 | Y56: 175000
A57: D | B57: Totaal Gas/water/elektra | C57: =SUM(C54:C56) -> 100000 | D57: =C57*Start!$C$15 -> 460 | E57: =D57/12 -> 38.333333 | G57: =C57/$C$75 -> 0.10214494 | I57: =SUM(I54:I56) -> 368943.86 | K57: =I57/I75 -> 0.305576 | M57: =SUM(M54:M56) -> 368500 | O57: =M57/M75 -> 0.31894324 | Q57: =SUM(Q54:Q56) -> 285000 | S57: =Q57/Q75 -> 0.2743497 | U57: =SUM(U54:U56) -> 220000 | W57: =U57/U75 -> 0.23800597 | Y57: =SUM(Y54:Y56) -> 235000 | AA57: =Y57/Y75 -> 0.26280279
A59: B+C | B59: Eigenaarslasten beschermd wonen
B60: {='2027 Begroting posten'!B52:C52} -> Onderhoud groenvoorziening | C60: 3628 | D60: =$C60/Start!$B$9 -> 17.784314 | E60: =D60/12 -> 1.4820261 | I60: 3465 | M60: 3100 | Q60: 3050 | U60: 2950 | Y60: 2500
B61: Ongediertebestrijding | Q61: 500 | U61: 500 | Y61: 500
B62: {='2027 Begroting posten'!B54:C54} -> Glasbewassing | C62: 4425 | D62: =$C62/Start!$B$9 -> 21.691176 | E62: =D62/12 -> 1.807598 | I62: 4214 | M62: 3750 | Q62: 3750 | U62: 3600 | Y62: 2900
B63: {='2027 Begroting posten'!B55:C55} -> Kosten huismeester | C63: 96695 | D63: =$C63/Start!$B$9 -> 473.9951 | E63: =D63/12 -> 39.499592 | I63: 92090 | M63: 90000 | Q63: 86085 | U63: 81986.45 | Y63: 74970
B64: {='2027 Begroting posten'!B56:C56} -> Bijdrage activiteitencommissie VvE Kortonjo | C64: 2500 | D64: =$C64/Start!$B$9 -> 12.254902 | E64: =D64/12 -> 1.0212418 | I64: 2500 | M64: 3000 | Q64: 3500 | U64: 3500 | Y64: 2000
B65: {='2027 Begroting posten'!B57:C57} -> Schoonmaakcontract algemene ruimten | C65: 33850 | D65: =$C65/Start!$B$9 -> 165.93137 | E65: =D65/12 -> 13.827614 | I65: 32237 | M65: 30000 | Q65: 27030 | U65: 25745 | Y65: 24225
B66: {='2027 Begroting posten'!B63:C63} -> Onderhoud alarmapparatuur (zorgalarmering) BHV | C66: 7924 | D66: =$C66/Start!$B$9 -> 38.843137 | E66: =D66/12 -> 3.2369281 | I66: 7546 | M66: 7100 | Q66: 6930 | U66: 6600 | Y66: 6000
B67: {='2027 Begroting posten'!B64:C64} -> Calamiteitenzorg (zorgkastje) | C67: 190335 | D67: =$C67/Start!$B$9 -> 933.01471 | E67: =D67/12 -> 77.751225 | I67: 181272 | M67: 158668 | Q67: 156050 | U67: 148618 | Y67: 135108
B68: Activiteitenbegeleiding | Y68: 5000
B69: {='2027 Begroting posten'!B66:C66} -> Bedrijfs Hulp Verlening (BHV kosten) | C69: 18386 | D69: =$C69/Start!$B$9 -> 90.127451 | E69: =D69/12 -> 7.5106209 | I69: 17511 | M69: 16358 | Q69: 16090 | U69: 15325 | Y69: 14000
B70: {='2027 Begroting posten'!B67:C67} -> Medewerker Praethuys | C70: 93186 | D70: =$C70/Start!$B$9 -> 456.79412 | E70: =D70/12 -> 38.066176 | I70: 88732 | M70: 82889 | Q70: 81543 | U70: 77660 | Y70: 70000
B71: {='2027 Begroting posten'!B68:C68} -> Schoonmaak tussengebouw | C71: 17047 | D71: =$C71/Start!$B$9 -> 83.563725 | E71: =D71/12 -> 6.9636438 | I71: 16235 | M71: 15462 | Q71: 14726 | U71: 14025 | Y71: 12750
B72: {='2027 Begroting posten'!B69:C69} -> Kosten levering diensten tussengebouw | C72: 42277 | D72: =$C72/Start!$B$9 -> 207.2402 | E72: =D72/12 -> 17.270016 | I72: 40264 | M72: 35345 | Q72: 36520 | U72: 34780 | Y72: 31620
A73: B+C | B73: Totaal kosten beschermd wonen | C73: =SUM(C60:C72) -> 510253 | D73: =$C73/Start!$B$9 -> 2501.2402 | E73: =D73/12 -> 208.43668 | G73: =C73/$C$75 -> 0.52119763 | I73: =SUM(I60:I72) -> 486066 | K73: =I73/I75 -> 0.40258185 | M73: =SUM(M60:M72) -> 445672 | O73: =M73/M75 -> 0.38573696 | Q73: =SUM(Q60:Q72) -> 435774 | S73: =Q73/Q75 -> 0.41948935 | U73: =SUM(U60:U72) -> 415289.45 | W73: =U73/U75 -> 0.44927895 | Y73: =SUM(Y60:Y72) -> 381573 | AA73: =Y73/Y75 -> 0.4267168
B75: Totaal rubriek A + D + (B en C) | C75: =C50+C57+C73 -> 979001 | D75: =$C75/Start!$B$9 -> 4799.0245 | E75: =D75/12 -> 399.91871 | G75: =G50+G57+G73 -> 1 | I75: =I50+I57+I73 -> 1207371.9 | K75: =K50+K57+K73 -> 1 | M75: =M50+M57+M73 -> 1155378 | O75: =O50+O57+O73 -> 1 | Q75: =Q50+Q57+Q73 -> 1038820.2 | S75: =S50+S57+S73 -> 1 | U75: =U50+U57+U73 -> 924346.56 | W75: =W50+W57+W73 -> 1 | Y75: =Y50+Y57+Y73 -> 894206.65 | AA75: =AA50+AA57+AA73 -> 1
A77: * | B77: vanaf 1-8-2026 via voorschot per maand

Sheet Overzicht per jaar
A3: A | B3: Som van 2022 | C3: Som van 2023 | D3: Som van 2024 | E3: Som van 2025 | F3: Som van 2026 | G3: Som van 2027
A4: A | B4: 277633.65 | C4: 289057.11 | D4: 318046.17 | E4: 341206 | F4: 352362 | G4: 368748
A5: B+C | B5: 381573 | C5: 415289.45 | D5: 435774 | E5: 445672 | F5: 486066 | G5: 510253
A6: D | B6: 235000 | C6: 220000 | D6: 285000 | E6: 368500 | F6: 368943.86 | G6: 100000
B10: =SUM(B4:B6) -> 894206.65 | C10: =SUM(C4:C6) -> 924346.56 | D10: =SUM(D4:D6) -> 1038820.2 | E10: =SUM(E4:E6) -> 1155378 | F10: =SUM(F4:F6) -> 1207371.9 | G10: =SUM(G4:G6) -> 979001

Sheet Eigendomsoverzicht (2)
A1: NR. | B1: Naam | E1: In bestuur | F1: Functies | G1: Eigendomsoverzicht | H1: Nr | I1: Straat | J1: Huisnr | K1: Type | L1: Verdeelsleutel | M1: Logeerkamer | N1: Dubbel A/D
A2: 1 | B2: Anoniem | C2: 1 | E2: - | F2: - | G2: 52: Herman Gorterlaan 105 | H2: 52 | I2: Herman Gorterlaan | J2: 105 | K2: A | L2: =VLOOKUP(K2,Start!$A$15:$B$22,2) -> 46
A3: 2 | B3: Anoniem | C3: 2 | E3: - | F3: - | G3: 28: Herman Gorterlaan 57 | H3: 28 | I3: Herman Gorterlaan | J3: 57 | K3: A | L3: =VLOOKUP(K3,Start!$A$15:$B$22,2) -> 46
A4: 3 | B4: Anoniem | C4: 3 | E4: - | F4: - | G4: 189: Herman Gorterlaan 379 | H4: 189 | I4: Herman Gorterlaan | J4: 379 | K4: A | L4: =VLOOKUP(K4,Start!$A$15:$B$22,2) -> 46
A5: 4 | B5: Anoniem | C5: 4 | E5: - | F5: - | G5: 61: Herman Gorterlaan 123 | H5: 61 | I5: Herman Gorterlaan | J5: 123 | K5: B | L5: =VLOOKUP(K5,Start!$A$15:$B$22,2) -> 55
A6: 5 | B6: Anoniem | C6: 5 | E6: - | F6: - | G6: 11: Herman Gorterlaan 23 | H6: 11 | I6: Herman Gorterlaan | J6: 23 | K6: A | L6: =VLOOKUP(K6,Start!$A$15:$B$22,2) -> 46
A7: 6 | B7: Anoniem | C7: 6 | E7: - | F7: - | G7: 204: Herman Gorterlaan 409 | H7: 204 | I7: Herman Gorterlaan | J7: 409 | K7: A | L7: =VLOOKUP(K7,Start!$A$15:$B$22,2) -> 46
A8: 7 | B8: Anoniem | C8: 7 | E8: - | F8: - | G8: 174: Herman Gorterlaan 349 | H8: 174 | I8: Herman Gorterlaan | J8: 349 | K8: A | L8: =VLOOKUP(K8,Start!$A$15:$B$22,2) -> 46
A9: 8 | B9: Anoniem | C9: 8 | D9: 1 | E9: - | F9: - | G9: 46: Herman Gorterlaan 93 | H9: 46 | I9: Herman Gorterlaan | J9: 93 | K9: A | L9: =VLOOKUP(K9,Start!$A$15:$B$22,2) -> 46 | N9: A/D
A10: 9 | G10: 47: Herman Gorterlaan 95 | H10: 47 | I10: Herman Gorterlaan | J10: 95 | K10: D | L10: =VLOOKUP(K10,Start!$A$15:$B$22,2) -> 29
A11: 10 | B11: Anoniem | C11: 9 | E11: - | F11: - | G11: 207: Herman Gorterlaan 415 | H11: 207 | I11: Herman Gorterlaan | J11: 415 | K11: A | L11: =VLOOKUP(K11,Start!$A$15:$B$22,2) -> 46
A12: 11 | B12: Anoniem | C12: 10 | E12: - | F12: - | G12: 172: Herman Gorterlaan 345 | H12: 172 | I12: Herman Gorterlaan | J12: 345 | K12: A | L12: =VLOOKUP(K12,Start!$A$15:$B$22,2) -> 46
A13: 12 | B13: Anoniem | C13: 11 | E13: - | F13: - | G13: 71: Herman Gorterlaan 143 | H13: 71 | I13: Herman Gorterlaan | J13: 143 | K13: A | L13: =VLOOKUP(K13,Start!$A$15:$B$22,2) -> 46
A14: 13 | B14: Anoniem | C14: 12 | E14: - | F14: - | G14: 103: Herman Gorterlaan 207 | H14: 103 | I14: Herman Gorterlaan | J14: 207 | K14: A | L14: =VLOOKUP(K14,Start!$A$15:$B$22,2) -> 46
A15: 14 | B15: Anoniem | C15: 13 | D15: 2 | E15: - | F15: - | G15: 182: Herman Gorterlaan 365 | H15: 182 | I15: Herman Gorterlaan | J15: 365 | K15: A | L15: =VLOOKUP(K15,Start!$A$15:$B$22,2) -> 46 | N15: A/D
A16: 15 | G16: 183: Herman Gorterlaan 367 | H16: 183 | I16: Herman Gorterlaan | J16: 367 | K16: D | L16: =VLOOKUP(K16,Start!$A$15:$B$22,2) -> 29
A17: 16 | B17: Anoniem | C17: 14 | E17: - | F17: - | G17: 152: Herman Gorterlaan 305 | H17: 152 | I17: Herman Gorterlaan | J17: 305 | K17: A | L17: =VLOOKUP(K17,Start!$A$15:$B$22,2) -> 46
A18: 17 | B18: Anoniem | C18: 15 | E18: - | F18: - | G18: 102: Herman Gorterlaan 205 | H18: 102 | I18: Herman Gorterlaan | J18: 205 | K18: A | L18: =VLOOKUP(K18,Start!$A$15:$B$22,2) -> 46
A19: 18 | B19: Anoniem | C19: 16 | E19: - | F19: - | G19: 88: Herman Gorterlaan 177 | H19: 88 | I19: Herman Gorterlaan | J19: 177 | K19: A | L19: =VLOOKUP(K19,Start!$A$15:$B$22,2) -> 46
A20: 19 | B20: Anoniem | C20: 17 | E20: - | F20: - | G20: 38: Herman Gorterlaan 77 | H20: 38 | I20: Herman Gorterlaan | J20: 77 | K20: A | L20: =VLOOKUP(K20,Start!$A$15:$B$22,2) -> 46
A21: 20 | B21: Anoniem | C21: 18 | E21: - | F21: - | G21: 77: Herman Gorterlaan 155 | H21: 77 | I21: Herman Gorterlaan | J21: 155 | K21: A | L21: =VLOOKUP(K21,Start!$A$15:$B$22,2) -> 46
A22: 21 | B22: Anoniem | C22: 19 | E22: - | F22: - | G22: 190: Herman Gorterlaan 381 | H22: 190 | I22: Herman Gorterlaan | J22: 381 | K22: A | L22: =VLOOKUP(K22,Start!$A$15:$B$22,2) -> 46
A23: 22 | B23: Anoniem | C23: 20 | E23: - | F23: - | G23: 45: Herman Gorterlaan 91 | H23: 45 | I23: Herman Gorterlaan | J23: 91 | K23: A | L23: =VLOOKUP(K23,Start!$A$15:$B$22,2) -> 46
A24: 23 | B24: Anoniem | C24: 21 | E24: - | F24: - | G24: 127: Herman Gorterlaan 255 | H24: 127 | I24: Herman Gorterlaan | J24: 255 | K24: A | L24: =VLOOKUP(K24,Start!$A$15:$B$22,2) -> 46
A25: 24 | B25: Anoniem | C25: 22 | E25: - | F25: - | G25: 151: Herman Gorterlaan 303 | H25: 151 | I25: Herman Gorterlaan | J25: 303 | K25: A | L25: =VLOOKUP(K25,Start!$A$15:$B$22,2) -> 46
A26: 25 | B26: Anoniem | C26: 23 | E26: - | F26: - | G26: 210: Herman Gorterlaan 421 | H26: 210 | I26: Herman Gorterlaan | J26: 421 | K26: C | L26: =VLOOKUP(K26,Start!$A$15:$B$22,2) -> 62
A27: 26 | B27: Anoniem | C27: 24 | E27: - | F27: - | G27: 74: Herman Gorterlaan 149 | H27: 74 | I27: Herman Gorterlaan | J27: 149 | K27: C | L27: =VLOOKUP(K27,Start!$A$15:$B$22,2) -> 62
A28: 27 | B28: Anoniem | C28: 25 | E28: - | F28: - | G28: 51: Herman Gorterlaan 103 | H28: 51 | I28: Herman Gorterlaan | J28: 103 | K28: A | L28: =VLOOKUP(K28,Start!$A$15:$B$22,2) -> 46
... A43: 42 | B43: Anoniem | C43: 40 | E43: - | F43: - | G43: 201: Herman Gorterlaan 403 | H43: 201 | I43: Herman Gorterlaan | J43: 403 | K43: C | L43: =VLOOKUP(K43,Start!$A$15:$B$22,2) -> 62
A44: 43 | B44: Anoniem | C44: 41 | D44: 3 | E44: - | F44: - | G44: 131: Herman Gorterlaan 263 | H44: 131 | I44: Herman Gorterlaan | J44: 263 | K44: A | L44: =VLOOKUP(K44,Start!$A$15:$B$22,2) -> 46 | N44: A/D
A45: 44 | G45: 132: Herman Gorterlaan 265 | H45: 132 | I45: Herman Gorterlaan | J45: 265 | K45: D | L45: =VLOOKUP(K45,Start!$A$15:$B$22,2) -> 29
A46: 45 | B46: Anoniem | C46: 42 | E46: - | F46: - | G46: 164: Herman Gorterlaan 329 | H46: 164 | I46: Herman Gorterlaan | J46: 329 | K46: A | L46: =VLOOKUP(K46,Start!$A$15:$B$22,2) -> 46
A47: 46 | B47: Anoniem | C47: 43 | E47: - | F47: - | G47: 55: Herman Gorterlaan 111 | H47: 55 | I47: Herman Gorterlaan | J47: 111 | K47: A | L47: =VLOOKUP(K47,Start!$A$15:$B$22,2) -> 46
A48: 47 | B48: Anoniem | C48: 44 | E48: - | F48: - | G48: 155: Herman Gorterlaan 311 | H48: 155 | I48: Herman Gorterlaan | J48: 311 | K48: A | L48: =VLOOKUP(K48,Start!$A$15:$B$22,2) -> 46
A49: 48 | B49: Anoniem | C49: 45 | E49: - | F49: - | G49: 169: Herman Gorterlaan 339 | H49: 169 | I49: Herman Gorterlaan | J49: 339 | K49: A | L49: =VLOOKUP(K49,Start!$A$15:$B$22,2) -> 46
A50: 49 | B50: Anoniem | C50: 46 | E50: - | F50: - | G50: 85: Herman Gorterlaan 171 | H50: 85 | I50: Herman Gorterlaan | J50: 171 | K50: A | L50: =VLOOKUP(K50,Start!$A$15:$B$22,2) -> 46
A51: 50 | B51: Anoniem | C51: 47 | E51: - | F51: - | G51: 198: Herman Gorterlaan 397 | H51: 198 | I51: Herman Gorterlaan | J51: 397 | K51: A | L51: =VLOOKUP(K51,Start!$A$15:$B$22,2) -> 46
A52: 51 | B52: Anoniem | C52: 48 | E52: - | F52: - | G52: 176: Herman Gorterlaan 353 | H52: 176 | I52: Herman Gorterlaan | J52: 353 | K52: C | L52: =VLOOKUP(K52,Start!$A$15:$B$22,2) -> 62
A53: 52 | B53: Anoniem | C53: 49 | E53: - | F53: - | G53: 135: Herman Gorterlaan 271 | H53: 135 | I53: Herman Gorterlaan | J53: 271 | K53: A | L53: =VLOOKUP(K53,Start!$A$15:$B$22,2) -> 46
A54: 53 | B54: Anoniem | C54: 50 | E54: - | F54: - | G54: 34: Herman Gorterlaan 69 | H54: 34 | I54: Herman Gorterlaan | J54: 69 | K54: A | L54: =VLOOKUP(K54,Start!$A$15:$B$22,2) -> 46
A55: 54 | B55: Anoniem | C55: 51 | D55: 4 | E55: - | F55: - | G55: 97: Herman Gorterlaan 195 | H55: 97 | I55: Herman Gorterlaan | J55: 195 | K55: A | L55: =VLOOKUP(K55,Start!$A$15:$B$22,2) -> 46 | N55: A/D
A56: 55 | G56: 98: Herman Gorterlaan 197 | H56: 98 | I56: Herman Gorterlaan | J56: 197 | K56: D | L56: =VLOOKUP(K56,Start!$A$15:$B$22,2) -> 29
A57: 56 | B57: Anoniem | C57: 52 | E57: - | F57: - | G57: 72: Herman Gorterlaan 145 | H57: 72 | I57: Herman Gorterlaan | J57: 145 | K57: A | L57: =VLOOKUP(K57,Start!$A$15:$B$22,2) -> 46
A58: 57 | B58: Anoniem | C58: 53 | E58: - | F58: - | G58: 19: Herman Gorterlaan 39 | H58: 19 | I58: Herman Gorterlaan | J58: 39 | K58: A | L58: =VLOOKUP(K58,Start!$A$15:$B$22,2) -> 46
A59: 58 | B59: Anoniem | C59: 54 | D59: 5 | E59: - | F59: - | G59: 140: Herman Gorterlaan 281 | H59: 140 | I59: Herman Gorterlaan | J59: 281 | K59: A | L59: =VLOOKUP(K59,Start!$A$15:$B$22,2) -> 46 | N59: A/D
A60: 59 | G60: 141: Herman Gorterlaan 283 | H60: 141 | I60: Herman Gorterlaan | J60: 283 | K60: D | L60: =VLOOKUP(K60,Start!$A$15:$B$22,2) -> 29
A61: 60 | B61: Anoniem | C61: 55 | E61: - | F61: - | G61: 113: Herman Gorterlaan 227 | H61: 113 | I61: Herman Gorterlaan | J61: 227 | K61: A | L61: =VLOOKUP(K61,Start!$A$15:$B$22,2) -> 46
A62: 61 | B62: Anoniem | C62: 56 | E62: - | F62: - | G62: 37: Herman Gorterlaan 75 | H62: 37 | I62: Herman Gorterlaan | J62: 75 | K62: A | L62: =VLOOKUP(K62,Start!$A$15:$B$22,2) -> 46
A63: 62 | B63: Anoniem | C63: 57 | E63: - | F63: - | G63: 159: Herman Gorterlaan 319 | H63: 159 | I63: Herman Gorterlaan | J63: 319 | K63: C | L63: =VLOOKUP(K63,Start!$A$15:$B$22,2) -> 62
A64: 63 | B64: Anoniem | C64: 58 | E64: - | F64: - | G64: 112: Herman Gorterlaan 225 | H64: 112 | I64: Herman Gorterlaan | J64: 225 | K64: B | L64: =VLOOKUP(K64,Start!$A$15:$B$22,2) -> 55
A65: 64 | B65: Anoniem | C65: 59 | D65: 6 | E65: - | F65: - | G65: 114: Herman Gorterlaan 229 | H65: 114 | I65: Herman Gorterlaan | J65: 229 | K65: A | L65: =VLOOKUP(K65,Start!$A$15:$B$22,2) -> 46 | N65: A/D
A66: 65 | G66: 115: Herman Gorterlaan 231 | H66: 115 | I66: Herman Gorterlaan | J66: 231 | K66: D | L66: =VLOOKUP(K66,Start!$A$15:$B$22,2) -> 29
A67: 66 | B67: Anoniem | C67: 60 | D67: 7 | E67: - | F67: - | G67: 123: Herman Gorterlaan 247 | H67: 123 | I67: Herman Gorterlaan | J67: 247 | K67: A | L67: =VLOOKUP(K67,Start!$A$15:$B$22,2) -> 46 | N67: A/D
A68: 67 | G68: 124: Herman Gorterlaan 249 | H68: 124 | I68: Herman Gorterlaan | J68: 249 | K68: D | L68: =VLOOKUP(K68,Start!$A$15:$B$22,2) -> 29
A69: 68 | B69: Anoniem | C69: 61 | E69: - | F69: - | G69: 187: Herman Gorterlaan 375 | H69: 187 | I69: Herman Gorterlaan | J69: 375 | K69: A | L69: =VLOOKUP(K69,Start!$A$15:$B$22,2) -> 46
A70: 69 | B70: Anoniem | C70: 62 | E70: - | F70: - | G70: 170: Herman Gorterlaan 341 | H70: 170 | I70: Herman Gorterlaan | J70: 341 | K70: A | L70: =VLOOKUP(K70,Start!$A$15:$B$22,2) -> 46
A71: 70 | B71: Anoniem | C71: 63 | E71: - | F71: - | G71: 40: Herman Gorterlaan 81 | H71: 40 | I71: Herman Gorterlaan | J71: 81 | K71: C | L71: =VLOOKUP(K71,Start!$A$15:$B$22,2) -> 62
A72: 71 | B72: Anoniem | C72: 64 | E72: - | F72: - | G72: 199: Herman Gorterlaan 399 | H72: 199 | I72: Herman Gorterlaan | J72: 399 | K72: A | L72: =VLOOKUP(K72,Start!$A$15:$B$22,2) -> 46
A73: 72 | B73: Anoniem | C73: 65 | D73: 8 | E73: - | F73: - | G73: 208: Herman Gorterlaan 417 | H73: 208 | I73: Herman Gorterlaan | J73: 417 | K73: A | L73: =VLOOKUP(K73,Start!$A$15:$B$22,2) -> 46 | N73: A/D
A74: 73 | G74: 209: Herman Gorterlaan 419 | H74: 209 | I74: Herman Gorterlaan | J74: 419 | K74: D | L74: =VLOOKUP(K74,Start!$A$15:$B$22,2) -> 29
A75: 74 | B75: Anoniem | C75: 66 | E75: - | F75: - | G75: 21: Herman Gorterlaan 43 | H75: 21 | I75: Herman Gorterlaan | J75: 43 | K75: A | L75: =VLOOKUP(K75,Start!$A$15:$B$22,2) -> 46
A76: 75 | B76: Anoniem | C76: 67 | E76: - | F76: - | G76: 147: Herman Gorterlaan 295 | H76: 147 | I76: Herman Gorterlaan | J76: 295 | K76: A | L76: =VLOOKUP(K76,Start!$A$15:$B$22,2) -> 46
A77: 76 | B77: Anoniem | C77: 68 | E77: - | F77: - | G77: 181: Herman Gorterlaan 363 | H77: 181 | I77: Herman Gorterlaan | J77: 363 | K77: A | L77: =VLOOKUP(K77,Start!$A$15:$B$22,2) -> 46
A78: 77 | B78: Anoniem | C78: 69 | E78: - | F78: - | G78: 184: Herman Gorterlaan 369 | H78: 184 | I78: Herman Gorterlaan | J78: 369 | K78: C | L78: =VLOOKUP(K78,Start!$A$15:$B$22,2) -> 62
A79: 78 | B79: Anoniem | C79: 70 | E79: - | F79: - | G79: 219: Herman Gorterlaan 439 | H79: 219 | I79: Herman Gorterlaan | J79: 439 | K79: F | L79: =VLOOKUP(K79,Start!$A$15:$B$22,2) -> 38
A80: 79 | B80: Anoniem | C80: 71 | E80: - | F80: - | G80: 139: Herman Gorterlaan 279 | H80: 139 | I80: Herman Gorterlaan | J80: 279 | K80: A | L80: =VLOOKUP(K80,Start!$A$15:$B$22,2) -> 46
A81: 80 | C81: 72 | G81: 14: Herman Gorterlaan 29 | H81: 14 | I81: Herman Gorterlaan | J81: 29 | K81: C | L81: =VLOOKUP(K81,Start!$A$15:$B$22,2) -> 62
A82: 81 | B82: Anoniem | C82: 73 | E82: - | F82: - | G82: 117: Herman Gorterlaan 235 | H82: 117 | I82: Herman Gorterlaan | J82: 235 | K82: A | L82: =VLOOKUP(K82,Start!$A$15:$B$22,2) -> 46
A83: 82 | B83: Anoniem | C83: 74 | E83: - | F83: - | G83: 57: Herman Gorterlaan 115 | H83: 57 | I83: Herman Gorterlaan | J83: 115 | K83: C | L83: =VLOOKUP(K83,Start!$A$15:$B$22,2) -> 62
A84: 83 | B84: Anoniem | C84: 75 | E84: - | F84: - | G84: 108: Herman Gorterlaan 217 | H84: 108 | I84: Herman Gorterlaan | J84: 217 | K84: C | L84: =VLOOKUP(K84,Start!$A$15:$B$22,2) -> 62
A85: 84 | B85: Anoniem | C85: 76 | E85: - | F85: - | G85: 134: Herman Gorterlaan 269 | H85: 134 | I85: Herman Gorterlaan | J85: 269 | K85: A | L85: =VLOOKUP(K85,Start!$A$15:$B$22,2) -> 46
A86: 85 | C86: 77 | G86: 138: Herman Gorterlaan 277 | H86: 138 | I86: Herman Gorterlaan | J86: 277 | K86: A | L86: =VLOOKUP(K86,Start!$A$15:$B$22,2) -> 46
A87: 86 | C87: 78 | G87: 16: Herman Gorterlaan 33 | H87: 16 | I87: Herman Gorterlaan | J87: 33 | K87: A | L87: =VLOOKUP(K87,Start!$A$15:$B$22,2) -> 46
A88: 87 | C88: 79 | G88: 50: Herman Gorterlaan 101 | H88: 50 | I88: Herman Gorterlaan | J88: 101 | K88: A | L88: =VLOOKUP(K88,Start!$A$15:$B$22,2) -> 46
A89: 88 | B89: Anoniem | C89: 80 | E89: - | F89: - | G89: 1: Herman Gorterlaan 3 | H89: 1 | I89: Herman Gorterlaan | J89: 3 | K89: C | L89: =VLOOKUP(K89,Start!$A$15:$B$22,2) -> 62
A90: 89 | B90: Anoniem | C90: 81 | E90: - | F90: - | G90: 82: Herman Gorterlaan 165 | H90: 82 | I90: Herman Gorterlaan | J90: 165 | K90: C | L90: =VLOOKUP(K90,Start!$A$15:$B$22,2) -> 62
A91: 90 | B91: Anoniem | C91: 82 | E91: - | F91: - | G91: 156: Herman Gorterlaan 313 | H91: 156 | I91: Herman Gorterlaan | J91: 313 | K91: A | L91: =VLOOKUP(K91,Start!$A$15:$B$22,2) -> 46
A92: 91 | B92: Anoniem | C92: 83 | E92: - | F92: - | G92: 68: Herman Gorterlaan 137 | H92: 68 | I92: Herman Gorterlaan | J92: 137 | K92: A | L92: =VLOOKUP(K92,Start!$A$15:$B$22,2) -> 46
A93: 92 | B93: Anoniem | C93: 84 | E93: - | F93: - | G93: 84: Herman Gorterlaan 169 | H93: 84 | I93: Herman Gorterlaan | J93: 169 | K93: A | L93: =VLOOKUP(K93,Start!$A$15:$B$22,2) -> 46
A94: 93 | B94: Anoniem | C94: 85 | E94: - | F94: - | G94: 41: Herman Gorterlaan 83 | H94: 41 | I94: Herman Gorterlaan | J94: 83 | K94: A | L94: =VLOOKUP(K94,Start!$A$15:$B$22,2) -> 46
A95: 94 | B95: Anoniem | C95: 86 | E95: - | F95: - | G95: 144: Herman Gorterlaan 289 | H95: 144 | I95: Herman Gorterlaan | J95: 289 | K95: A | L95: =VLOOKUP(K95,Start!$A$15:$B$22,2) -> 46
A96: 95 | B96: Anoniem | C96: 87 | E96: - | F96: - | G96: 26: Herman Gorterlaan 53 | H96: 26 | I96: Herman Gorterlaan | J96: 53 | K96: A | L96: =VLOOKUP(K96,Start!$A$15:$B$22,2) -> 46
A97: 96 | B97: Anoniem | C97: 88 | E97: - | F97: - | G97: 96: Herman Gorterlaan 193 | H97: 96 | I97: Herman Gorterlaan | J97: 193 | K97: A | L97: =VLOOKUP(K97,Start!$A$15:$B$22,2) -> 46
A98: 97 | B98: Anoniem | C98: 89 | E98: - | F98: - | G98: 23: Herman Gorterlaan 47 | H98: 23 | I98: Herman Gorterlaan | J98: 47 | K98: C | L98: =VLOOKUP(K98,Start!$A$15:$B$22,2) -> 62
A99: 98 | B99: Anoniem | C99: 90 | E99: - | F99: - | G99: 75: Herman Gorterlaan 151 | H99: 75 | I99: Herman Gorterlaan | J99: 151 | K99: A | L99: =VLOOKUP(K99,Start!$A$15:$B$22,2) -> 46
A100: 99 | B100: Anoniem | C100: 91 | E100: - | F100: - | G100: 65: Herman Gorterlaan 131 | H100: 65 | I100: Herman Gorterlaan | J100: 131 | K100: C | L100: =VLOOKUP(K100,Start!$A$15:$B$22,2) -> 62
... A106: 105 | B106: Anoniem | C106: 97 | E106: - | F106: - | G106: 106: Herman Gorterlaan 213 | H106: 106 | I106: Herman Gorterlaan | J106: 213 | K106: A | L106: =VLOOKUP(K106,Start!$A$15:$B$22,2) -> 46
A107: 106 | C107: 98 | G107: 86: Herman Gorterlaan 173 | H107: 86 | I107: Herman Gorterlaan | J107: 173 | K107: A | L107: =VLOOKUP(K107,Start!$A$15:$B$22,2) -> 46
A108: 107 | C108: 99 | G108: 206: Herman Gorterlaan 413 | H108: 206 | I108: Herman Gorterlaan | J108: 413 | K108: A | L108: =VLOOKUP(K108,Start!$A$15:$B$22,2) -> 46
A109: 108 | C109: 100 | G109: 165: Herman Gorterlaan 331 | H109: 165 | I109: Herman Gorterlaan | J109: 331 | K109: A | L109: =VLOOKUP(K109,Start!$A$15:$B$22,2) -> 46
A110: 109 | B110: Anoniem | C110: 101 | E110: - | F110: - | G110: 80: Herman Gorterlaan 161 | H110: 80 | I110: Herman Gorterlaan | J110: 161 | K110: A | L110: =VLOOKUP(K110,Start!$A$15:$B$22,2) -> 46
A111: 110 | B111: Anoniem | C111: 102 | E111: - | F111: - | G111: 2: Herman Gorterlaan 5 | H111: 2 | I111: Herman Gorterlaan | J111: 5 | K111: A | L111: =VLOOKUP(K111,Start!$A$15:$B$22,2) -> 46
A112: 111 | B112: Anoniem | C112: 103 | E112: - | F112: - | G112: 48: Herman Gorterlaan 97 | H112: 48 | I112: Herman Gorterlaan | J112: 97 | K112: C | L112: =VLOOKUP(K112,Start!$A$15:$B$22,2) -> 62
A113: 112 | B113: Anoniem | C113: 104 | E113: - | F113: - | G113: 118: Herman Gorterlaan 237 | H113: 118 | I113: Herman Gorterlaan | J113: 237 | K113: A | L113: =VLOOKUP(K113,Start!$A$15:$B$22,2) -> 46
A114: 113 | B114: Anoniem | C114: 105 | E114: - | F114: - | G114: 100: Herman Gorterlaan 201 | H114: 100 | I114: Herman Gorterlaan | J114: 201 | K114: A | L114: =VLOOKUP(K114,Start!$A$15:$B$22,2) -> 46
A115: 114 | B115: Anoniem | C115: 106 | E115: - | F115: - | G115: 62: Herman Gorterlaan 125 | H115: 62 | I115: Herman Gorterlaan | J115: 125 | K115: A | L115: =VLOOKUP(K115,Start!$A$15:$B$22,2) -> 46
A116: 115 | B116: Anoniem | C116: 107 | E116: - | F116: - | G116: 213: Herman Gorterlaan 427 | H116: 213 | I116: Herman Gorterlaan | J116: 427 | K116: A | L116: =VLOOKUP(K116,Start!$A$15:$B$22,2) -> 46
A117: 116 | B117: Stichting Wooninc. | C117: 108 | D117: 1 | E117: - | F117: - | G117: 6: Herman Gorterlaan 13 | H117: 6 | I117: Herman Gorterlaan | J117: 13 | K117: A | L117: =VLOOKUP(K117,Start!$A$15:$B$22,2) -> 46
A118: 117 | B118: Stichting Wooninc. | C118: 109 | D118: 2 | G118: 7: Herman Gorterlaan 15 | H118: 7 | I118: Herman Gorterlaan | J118: 15 | K118: A | L118: =VLOOKUP(K118,Start!$A$15:$B$22,2) -> 46
A119: 118 | B119: Stichting Wooninc. | C119: 110 | D119: 3 | G119: 8: Herman Gorterlaan 17 | H119: 8 | I119: Herman Gorterlaan | J119: 17 | K119: A | L119: =VLOOKUP(K119,Start!$A$15:$B$22,2) -> 46
...
